BEGIN:VCALENDAR
VERSION:2.0
PRODID:-//wp-events-plugin.com//7.2.3.1//EN
TZID:America/Halifax
X-WR-TIMEZONE:America/Halifax
BEGIN:VEVENT
UID:232@devourfest.com
DTSTART;TZID=America/Halifax:20161102T173000
DTEND;TZID=America/Halifax:20161102T193000
DTSTAMP:20161012T185050Z
URL:https://devourfest.com/program/devour-opening-gala-reception-presented
 -by-taste-of-nova-scotia-2/
SUMMARY:Devour! Opening Gala Reception presented by Taste of Nova Scotia
DESCRIPTION:The sixth edition of Devour! kicks off in grand style with the 
 Devour! Opening Gala Reception presented by Taste of Nova Scotia. Thirteen
  of Nova Scotia’s finest chefs will come together to create a sensory ex
 ploration that celebrates our local cuisine. This signature event will fea
 ture the Order of Good Cheer celebration inducting all visiting chefs and 
 celebrities – including our special Opening Night guest curator\, Chef D
 ominique Crenn. \n\nParticipating Nova Scotia Chefs &amp\; Restaurants inc
 lude: Charlie Burtt (The Port Pub)\, Chris Velden (The Flying Apron Inn &a
 mp\; Cookery)\, Howard Selig (Valley Flaxflour)\, Ingrid Dunsworth (The Ca
 ke Lady)\, Jonathan Joseph (Argyler Lodge and Restaurant)\, Julie Cook (Ag
 ricola Street Brasserie)\, Kim Magistro (Restaurant Avalon at Castle Rock
  Country Inn)\, Mark Gray (Battery Park Beer Bar &amp\; Eatery)\, Shane Ro
 bbilliard (Fox Harb'r Resort)\, Martin Ruiz Salvador (Half Shell Oysters &
 amp\; Seafood)\, Mike McKinnon (Acadia University)\, Renée Lavallée (The
  Canteen)\, Shane Robilliard (Fox Harb'r Resort) and Steph Ogilvie (Broo
 klyn Warehouse).\n\nGuests on this special night will also be treated to d
 rinks from: L’Acadie Vineyards\, Authentic Seacoast Company\, Benjamin B
 ridge\, Garrison Brewing Company\, Gaspereau Vineyards\, Grand Pré Wines
 \, Lightfoot &amp\; Wolfville\, Luckett Vineyards\,  Meander River Farm &
 amp\; Brewery\, Muwin Estate Wines Ltd\, Planter’s Ridge and Rudder’s 
 Seafood Restaurant &amp\; Brew Pub.\n\n$100.00 per guest\, but there's an 
 evening package that includes the film for a total of $125! What a steal..
 . \n\nSponsored by: Taste of Nova Scotia
ATTACH;FMTTYPE=image/jpeg:https://devourfest.com/wp-content/uploads/2015/0
 9/devour_events.jpg
LOCATION:Fountain Commons\, Acadia Univeristy\, 26 Crowell Dr\, Wolfville\,
  NS\, B4P 2R6\, Canada
GEO:45.08795689999999;-64.3666728
X-APPLE-STRUCTURED-LOCATION;VALUE=URI;X-ADDRESS=26 Crowell Dr\, Wolfville\,
  NS\, B4P 2R6\, Canada;X-APPLE-RADIUS=100;X-TITLE=Fountain Commons\, Acadi
 a Univeristy:geo:45.08795689999999,-64.3666728
END:VEVENT
BEGIN:VTIMEZONE
TZID:America/Halifax
X-LIC-LOCATION:America/Halifax
BEGIN:DAYLIGHT
DTSTART:20160313T030000
TZOFFSETFROM:-0400
TZOFFSETTO:-0300
TZNAME:ADT
END:DAYLIGHT
END:VTIMEZONE
END:VCALENDAR