BEGIN:VCALENDAR
VERSION:2.0
PRODID:-//wp-events-plugin.com//7.2.3.1//EN
TZID:America/Halifax
X-WR-TIMEZONE:America/Halifax
BEGIN:VEVENT
UID:814@devourfest.com
DTSTART;TZID=America/Halifax:20221026T170000
DTEND;TZID=America/Halifax:20221026T190000
DTSTAMP:20221018T195134Z
URL:https://devourfest.com/program/devour-opening-gala-reception-presented
 -by-taste-of-nova-scotia-6/
SUMMARY:Devour! Opening Gala Reception presented by Taste of Nova Scotia
DESCRIPTION:The 12th edition of Devour! marks the return of the Devour! Ope
 ning Gala Reception coordinated by Taste of Nova Scotia. It features Nova 
 Scotia’s finest beverage purveyors and chefs coming together to create a
  sensory exploration in celebration of plant-forward cuisine.\n\nTicket Pr
 ice: $50.00\; includes all food and beverage\nMust be 19+ to attend in per
 son\n\nSponsored by Taste of Nova Scotia\n\nParticipating Restaurants: \n
 \n 	Beach Pea Kitchen &amp\; Bar- Eggplant Pangrattato\, roasted eggplant\
 , garlic breadcrumbs\, tomato sauce\, garlic confit\, basil\, sea salt\, t
 hyme\n 	The Canteen- Roasted Heirloom Carrots\, citrus labneh\, quinoa gra
 nola\, dill oil\, pickled red onions\n 	The Flying Apron Inn &amp\; Cooker
 y- Foraged Acorn &amp\; Organic Corn Polenta\, Roma Cheese Stracciatella\,
  organic beet kraut\, Newell’s Jewels corn shoots\n 	Founders House Dini
 ng &amp\; Drinks- Crispy &amp\; Soft Potato\, pickled black walnut &amp\; 
 coal-roasted shiitake\, mushroom demi glacé\, black truffle\n 	JustUs Caf
 é - Vegan Cream of Mushroom &amp\; Sunchoke Soup\, vegan lavosh\n 	Hop Sc
 otch Supper Club- Smoked Maitake Mushroom Bao\, caramelized miso'naise\, r
 adish\, carrot\, Pickled pepper\, cilantro\n 	Mateus Bistro- Crispy-Fried 
 Hen of the Woods Mushroom\, acorn squash risotto\, marjoram cashew cream\,
  cranberry vinaigrette drizzle\n 	Petite Patrie Chocolate- Saffron Caramel
  Chocolate\n 	Winegrunt Wine Bar - Vegan Red Lentil Curry: local vegetable
 s\, herbs\, in-house curry spice blend\, almond butter\n\nBeverages provid
 ed by:\n\n\n 	L'Acadie Vineyards\n 	Annapolis Cider Company\n 	Barrelling 
 Tide Distillery\n 	Chain Yard Cider\n 	Compass Distillers\n 	Good Robot Br
 ewing Co.\n 	Grand Pre Wines\n 	Haskap Highland Orchards\n 	Just Us Coffee
  Roasters\n 	Saltbox Brewery\n 	Solas Kombucha\n 	Still Fired Distilleries
 \n\n\n
ATTACH;FMTTYPE=image/jpeg:https://devourfest.com/wp-content/uploads/2018/0
 9/Devour-Opening-Gala-Reception-presented-by-Taste-of-Nova-Scotia-4.jpeg
CATEGORIES:EVENT
LOCATION:Devour! Studios\, 360 Main Street\, Wolfville\, NS\, B4P1C4\, Cana
 da
GEO:45.091942;-64.359045
X-APPLE-STRUCTURED-LOCATION;VALUE=URI;X-ADDRESS=360 Main Street\, Wolfville
 \, NS\, B4P1C4\, Canada;X-APPLE-RADIUS=100;X-TITLE=Devour! Studios:geo:45.
 091942,-64.359045
END:VEVENT
BEGIN:VTIMEZONE
TZID:America/Halifax
X-LIC-LOCATION:America/Halifax
BEGIN:DAYLIGHT
DTSTART:20220313T030000
TZOFFSETFROM:-0400
TZOFFSETTO:-0300
TZNAME:ADT
END:DAYLIGHT
END:VTIMEZONE
END:VCALENDAR