BEGIN:VCALENDAR
VERSION:2.0
PRODID:-//wp-events-plugin.com//7.2.3.1//EN
TZID:America/Halifax
X-WR-TIMEZONE:America/Halifax
BEGIN:VEVENT
UID:67@devourfest.com
DTSTART;TZID=America/Halifax:20140828T183000
DTEND;TZID=America/Halifax:20140828T230000
DTSTAMP:20140721T214437Z
URL:https://devourfest.com/program/devour-presents-chef/
SUMMARY:Devour! Presents Chef
DESCRIPTION:For the second time this summer\, Front and Central Chef David 
 Smart is teaming up with Devour! The Food Film Fest to host an experient
 ial dinner and movie experience on Thursday\, August 28.\n\nThe evening wi
 ll begin at 6:30 p.m. with a screening of Chef at Al Whittle Theatre\, l
 ocated on 450 Main St. in Wolfville. Jon Favreau stars as Carl Casper\, a 
 chef who suddenly quits his job at a prominent Los Angeles restaurant\, on
 ly to find himself moving to Miami to launch a food truck. The film also s
 tars Dustin Hoffman\, Sofia Vergara\, Scarlett Johansson and John Leguizam
 o.
LOCATION:Al Whittle Theatre\, 450 Main St\, Wolfville\, NS\, B4P 1E2\, Cana
 da
GEO:45.0915;-64.362765
X-APPLE-STRUCTURED-LOCATION;VALUE=URI;X-ADDRESS=450 Main St\, Wolfville\, N
 S\, B4P 1E2\, Canada;X-APPLE-RADIUS=100;X-TITLE=Al Whittle Theatre:geo:45.
 0915,-64.362765
END:VEVENT
BEGIN:VTIMEZONE
TZID:America/Halifax
X-LIC-LOCATION:America/Halifax
BEGIN:DAYLIGHT
DTSTART:20140309T030000
TZOFFSETFROM:-0400
TZOFFSETTO:-0300
TZNAME:ADT
END:DAYLIGHT
END:VTIMEZONE
END:VCALENDAR