BEGIN:VCALENDAR
VERSION:2.0
PRODID:-//wp-events-plugin.com//7.2.3.1//EN
TZID:America/Halifax
X-WR-TIMEZONE:America/Halifax
BEGIN:VEVENT
UID:65@devourfest.com
DTSTART;TZID=America/Halifax:20140720T190000
DTEND;TZID=America/Halifax:20140720T220000
DTSTAMP:20140624T173227Z
URL:https://devourfest.com/program/devour-presents-the-big-lebowski/
SUMMARY:Devour! Presents The Big Lebowski
DESCRIPTION:Lion &amp\; Bright Café Wine Bar is teaming up with Devour! Th
 e Food Film Fest to host an entertaining spin on “dinner and a movie” 
 on Sunday\, July 20. The evening will incorporate themed food and drinks w
 ith film to create a fun\, joyous experience for all.\n\nThe evening will 
 kick off at 7:00 p.m. with a featured screening of the classic hit\, The B
 ig Lebowski at Lion &amp\; Bright\, located on 2534 Agricola Street in Hal
 ifax. Jeff Bridges stars as Jeff “The Dude” Lebowski in this cult favo
 urite created by The Coen Brothers.
LOCATION:Lion & Bright Café Wine Bar\, 2534 Agricola Street\, Halifax\, NS
 \, Canada
GEO:44.654587;-63.592636
X-APPLE-STRUCTURED-LOCATION;VALUE=URI;X-ADDRESS=2534 Agricola Street\, Hali
 fax\, NS\, Canada;X-APPLE-RADIUS=100;X-TITLE=Lion & Bright Café Wine Bar:
 geo:44.654587,-63.592636
END:VEVENT
BEGIN:VTIMEZONE
TZID:America/Halifax
X-LIC-LOCATION:America/Halifax
BEGIN:DAYLIGHT
DTSTART:20140309T030000
TZOFFSETFROM:-0400
TZOFFSETTO:-0300
TZNAME:ADT
END:DAYLIGHT
END:VTIMEZONE
END:VCALENDAR