BEGIN:VCALENDAR
VERSION:2.0
PRODID:-//wp-events-plugin.com//7.2.3.1//EN
TZID:America/Halifax
X-WR-TIMEZONE:America/Halifax
BEGIN:VEVENT
UID:1027@devourfest.com
DTSTART;TZID=America/Halifax:20251025T210000
DTEND;TZID=America/Halifax:20251026T000000
DTSTAMP:20250904T140418Z
URL:https://devourfest.com/program/devour-saturday-night-concert-party-w-m
 usic-by-dwayne-dopsie-the-zydeco-hellraisers/
SUMMARY:Devour! Saturday Night Concert & Party w/Music by Dwayne Dopsie & t
 he Zydeco Hellraisers
DESCRIPTION:Join us for an unforgettable evening of dancing and celebration
  at the Audi Halifax Stage in Devour! Studios\, as we toast to another suc
 cessful festival! Get ready to dance and celebrate the return of our favou
 rite band from Louisiana\, Dwayne Dopsie &amp\; the Zydeco Hellraisers\, w
 hose infectious energy and captivating performances will keep you on your 
 feet all night long. Gather your friends\, bring your dancing shoes\, and 
 prepare for a night filled with joy\, laughter\, and unforgettable memorie
 s. Let’s make this a night to remember!\n\nTicket Price: $25.00\, live m
 usic and cash bar\nSponsored by Audi Halifax\, IPC Securities\, Louisiana 
 Office of Tourism\, and Barrelling Tide Distillery\nMust be 19+ to attend 
 in-person\n\nDwayne Dopsie &amp\; The Zydeco Hell Raisers\n\nDwayne “Dop
 sie” Rubin\, a Louisiana native from an influential Zydeco family\, has 
 reinvented the genre with his high-energy style. As a self-taught accordio
 nist\, he formed Dwayne Dopsie &amp\; The Zydeco Hellraisers at just 19\, 
 captivating audiences worldwide. Known for his dynamic performances\, Dway
 ne blends traditional Zydeco with elements of blues\, funk\, and rock—cr
 eating a unique sound that resonates with all. A multiple award-winner\, i
 ncluding a 2022 Grammy and 20 OffBeat Awards\, he engages his audience lik
 e no other. Dwayne is celebrated as “The Hottest Accordionist” in Amer
 ica\, transforming every show into an unforgettable experience filled with
  energy and passion. @dwaynedopsie 
ATTACH;FMTTYPE=image/jpeg:https://devourfest.com/wp-content/uploads/2025/0
 8/Dwayne-Dopsie-the-Zydeco-Hellraisers-2.jpeg
CATEGORIES:EVENT
LOCATION:Devour! Studios\, 360 Main Street\, Wolfville\, Nova Scotia\, B4P1
 C4\, Canada
GEO:45.091942;-64.359045
X-APPLE-STRUCTURED-LOCATION;VALUE=URI;X-ADDRESS=360 Main Street\, Wolfville
 \, Nova Scotia\, B4P1C4\, Canada;X-APPLE-RADIUS=100;X-TITLE=Devour! Studio
 s:geo:45.091942,-64.359045
END:VEVENT
BEGIN:VTIMEZONE
TZID:America/Halifax
X-LIC-LOCATION:America/Halifax
BEGIN:DAYLIGHT
DTSTART:20250309T030000
TZOFFSETFROM:-0400
TZOFFSETTO:-0300
TZNAME:ADT
END:DAYLIGHT
END:VTIMEZONE
END:VCALENDAR