BEGIN:VCALENDAR
VERSION:2.0
PRODID:-//wp-events-plugin.com//7.2.3.1//EN
TZID:America/Halifax
X-WR-TIMEZONE:America/Halifax
BEGIN:VEVENT
UID:980@devourfest.com
DTSTART;TZID=America/Halifax:20241024T223000
DTEND;TZID=America/Halifax:20241025T000000
DTSTAMP:20241022T131532Z
URL:https://devourfest.com/program/devour-speakeasy/
SUMMARY:Devour! Speakeasy
DESCRIPTION:Step into our post-dinner speakeasy\, where the atmosphere shif
 ts from lively dining to an intimate space for late-night networking and s
 henanigans. Our expert mixologists create artisanal cocktails with premium
  ingredients and pour local libations. Immerse yourself in the ambiance fo
 r an unforgettable experience.\n\nOpen to all late-night festival goers\; 
 cash bar\nMust be 19+ to attend in person\nSponsored by Audi Halifax
ATTACH;FMTTYPE=image/jpeg:https://devourfest.com/wp-content/uploads/2024/0
 8/Speak-Easy-2.jpg
CATEGORIES:EVENT
LOCATION:Devour! Studios\, 360 Main Street\, Wolfville\, Nova Scotia\, B4P1
 C4\, Canada
GEO:45.091942;-64.359045
X-APPLE-STRUCTURED-LOCATION;VALUE=URI;X-ADDRESS=360 Main Street\, Wolfville
 \, Nova Scotia\, B4P1C4\, Canada;X-APPLE-RADIUS=100;X-TITLE=Devour! Studio
 s:geo:45.091942,-64.359045
END:VEVENT
BEGIN:VTIMEZONE
TZID:America/Halifax
X-LIC-LOCATION:America/Halifax
BEGIN:DAYLIGHT
DTSTART:20240310T030000
TZOFFSETFROM:-0400
TZOFFSETTO:-0300
TZNAME:ADT
END:DAYLIGHT
END:VTIMEZONE
END:VCALENDAR