BEGIN:VCALENDAR
VERSION:2.0
PRODID:-//wp-events-plugin.com//7.2.3.1//EN
TZID:America/Halifax
X-WR-TIMEZONE:America/Halifax
BEGIN:VEVENT
UID:304@devourfest.com
DTSTART;TZID=America/Halifax:20161105T210000
DTEND;TZID=America/Halifax:20161106T010000
DTSTAMP:20161002T201303Z
URL:https://devourfest.com/program/devour-spotlight-party/
SUMMARY:Devour! Spotlight Party
DESCRIPTION:Come and celebrate the wrap of a great festival week (almost!)
 –drink\, dance and mingle with new and old festival friends alike until 
 the wee hours! All the usual suspects will be there–including our favour
 ite drink purveyors–Benjamin Bridge &amp\; Spindrift Brewing along with 
 a few food surprises and  featuring music by the Mark Riley Project.\n\n\
 n\nThe Mark Riley Project\n\nThe Mark Riley Project is a 5-piece blues\, f
 unk and soul band created by Mark Riley. A former member of the Nova Scoti
 a Mass Choir\, Mark still performs as a Gospel Artist and also fronts anot
 her 15-piece band. The band currently performs throughout the Atlantic Pro
 vinces at concerts\, festivals and other venues. The members are: Mark Ril
 ey on guitar and lead vocals\, Fisher Akao on piano and keyboards\, Mark T
 owers on saxophone\, Gordon Blackmore on bass and Glenn Higgins on drums. 
ATTACH;FMTTYPE=image/jpeg:https://devourfest.com/wp-content/uploads/2016/0
 9/JMV-2735.jpg
LOCATION:Church Brewing Company\, 329 Main Street\, Wolfville\, NS\, B4P 1C
 8\, Canada
GEO:45.0915946;-64.35829109999997
X-APPLE-STRUCTURED-LOCATION;VALUE=URI;X-ADDRESS=329 Main Street\, Wolfville
 \, NS\, B4P 1C8\, Canada;X-APPLE-RADIUS=100;X-TITLE=Church Brewing Company
 :geo:45.0915946,-64.35829109999997
END:VEVENT
BEGIN:VTIMEZONE
TZID:America/Halifax
X-LIC-LOCATION:America/Halifax
BEGIN:DAYLIGHT
DTSTART:20160313T030000
TZOFFSETFROM:-0400
TZOFFSETTO:-0300
TZNAME:ADT
END:DAYLIGHT
END:VTIMEZONE
END:VCALENDAR