BEGIN:VCALENDAR
VERSION:2.0
PRODID:-//wp-events-plugin.com//7.2.3.1//EN
TZID:America/Halifax
X-WR-TIMEZONE:America/Halifax
BEGIN:VEVENT
UID:822@devourfest.com
DTSTART;TZID=America/Halifax:20221027T150000
DTEND;TZID=America/Halifax:20221027T190000
DTSTAMP:20221027T164506Z
URL:https://devourfest.com/program/devour-street-food-rally-hosted-by-cana
 dian-culinary-students/
SUMMARY:Devour! Street Food Rally hosted by Canadian Culinary Students
DESCRIPTION:This free\, community event in Wolfville's Waterfront Park (dir
 ectly behind the Studios) will mark the return of four culinary schools fr
 om across Canada\, with students producing tastes of plant-forward foods f
 or upwards of 1\,000 attendees. The participating schools are George Brown
  College (Toronto)\, Centennial College (North York)\, Pacific Institute o
 f Culinary Arts (Vancouver)\, and multiple campuses of the Nova Scotia Com
 munity College. Chef Lauren Marshall of RealFake Meats will be slinging he
 r version of vegan donairs. Featuring live music presented by the Halifax 
 Jazz Festival.\n3:00 pm Eriana Willis (solo R&amp\;B singer)\n4:00 pm Game
 .Set.Trap (Jazz Quartet + Tap Dance!)\n5:00 pm Mike A Vik (Acadian singer
 -songwriter)\n6:00 pm Lindsay Misiner 7th Mystic (8-piece funk &amp\; soul
  band)\nTicket Price: Free admission\; $5.00 dishes for purchase\n\nSponso
 red by Bank of Montreal\, Wilsons\, Wolfville Business Development Corpora
 tion\, Halifax Jazz Festival and all participating Culinary Schools–Nova
  Scotia Community College (NS)\, Pacific Institute of Culinary Arts (BC)\,
  George Brown College (ON) &amp\; Centennial College (ON)\n\n\n\n
ATTACH;FMTTYPE=image/jpeg:https://devourfest.com/wp-content/uploads/2022/0
 9/Devour-Street-Food-Rally-scaled.jpg
CATEGORIES:EVENT
LOCATION:Devour! Studios\, 360 Main Street\, Wolfville\, NS\, B4P1C4\, Cana
 da
GEO:45.091942;-64.359045
X-APPLE-STRUCTURED-LOCATION;VALUE=URI;X-ADDRESS=360 Main Street\, Wolfville
 \, NS\, B4P1C4\, Canada;X-APPLE-RADIUS=100;X-TITLE=Devour! Studios:geo:45.
 091942,-64.359045
END:VEVENT
BEGIN:VTIMEZONE
TZID:America/Halifax
X-LIC-LOCATION:America/Halifax
BEGIN:DAYLIGHT
DTSTART:20220313T030000
TZOFFSETFROM:-0400
TZOFFSETTO:-0300
TZNAME:ADT
END:DAYLIGHT
END:VTIMEZONE
END:VCALENDAR