BEGIN:VCALENDAR
VERSION:2.0
PRODID:-//wp-events-plugin.com//7.2.3.1//EN
TZID:America/Halifax
X-WR-TIMEZONE:America/Halifax
BEGIN:VEVENT
UID:1042@devourfest.com
DTSTART;TZID=America/Halifax:20260412T140000
DTEND;TZID=America/Halifax:20260412T150000
DTSTAMP:20260323T231630Z
URL:https://devourfest.com/program/devour-studios-volunteer-appreciation-a
 wareness-event/
SUMMARY:Devour! Studios Volunteer Appreciation & Awareness Event
DESCRIPTION:You're Invited! Volunteer Appreciation &amp\; Awareness Event a
 t Devour! Studios\n\nJoin us on Sunday\, April 12th\, from 2:00 to 3:00 PM
  at Devour! Studios (360 Main Street\, Wolfville) for a volunteer apprecia
 tion and awareness event.\n\nExplore the opportunities to support our new 
 cultural\, culinary\, and community hub in downtown Wolfville. Enjoy light
  refreshments while learning about the various events happening throughout
  the year.\n\nHelp us grow our community of friends and family—your invo
 lvement makes a difference!\n\nFree and open to all. Please feel free to s
 hare this invitation and bring a friend along.\n\n
ATTACH;FMTTYPE=image/jpeg:https://devourfest.com/wp-content/uploads/2026/0
 3/Devour-Studios-Volunteer-Appreciation-Awareness-Event-scaled.jpg
CATEGORIES:EVENT
LOCATION:Devour! Studios\, 360 Main Street\, Wolfville\, Nova Scotia\, B4P1
 C4\, Canada
GEO:45.091942;-64.359045
X-APPLE-STRUCTURED-LOCATION;VALUE=URI;X-ADDRESS=360 Main Street\, Wolfville
 \, Nova Scotia\, B4P1C4\, Canada;X-APPLE-RADIUS=100;X-TITLE=Devour! Studio
 s:geo:45.091942,-64.359045
END:VEVENT
BEGIN:VTIMEZONE
TZID:America/Halifax
X-LIC-LOCATION:America/Halifax
BEGIN:DAYLIGHT
DTSTART:20260308T030000
TZOFFSETFROM:-0400
TZOFFSETTO:-0300
TZNAME:ADT
END:DAYLIGHT
END:VTIMEZONE
END:VCALENDAR