BEGIN:VCALENDAR
VERSION:2.0
PRODID:-//wp-events-plugin.com//7.2.3.1//EN
TZID:America/Halifax
X-WR-TIMEZONE:America/Halifax
BEGIN:VEVENT
UID:543@devourfest.com
DTSTART;TZID=America/Halifax;VALUE=DATE:20200207
DTEND;TZID=America/Halifax;VALUE=DATE:20200211
DTSTAMP:20200203T093019Z
URL:https://devourfest.com/program/devour-the-canadian-rockies-film-festiv
 al-2/
SUMMARY:Devour! The Canadian Rockies Film Festival
DESCRIPTION:Devour! The Canadian Rockies is Jasper’s newest high-end culi
 nary event…and one you do NOT want to miss! We’re pleased to return to
  the beautiful Jasper Park Lodge for our third annual edition.\n\nDiscover
  a love for food and film (and wine) this winter in beautiful Jasper Natio
 nal Park. Cozy up in the Rockies while you celebrate cinema\, indulge in e
 xquisite food &amp\; wine\, and experience all the Fairmont Jasper Park Lo
 dge has to offer.\n\nAfter wrapping up a successful ninth edition of our f
 estival in Nova Scotia with our theme Celebrating Italian Food and Cinema\
 , we decided to infuse a little Italian spirit into this weekend. We'll b
 e presenting an expanded version of our über-popular Cabin Crawl and wine
  &amp\; cheese pairing workshops thanks to our partners:\n\n   \n\n\n\nO
 ur weekend's participating chefs include:\n\nPaul Shufelt\, Workshop Eater
 y\, Edmonton\n\nDoreen Prei\, Zinc Restaurant\, Edmonton Art Gallery\n\nMe
 hdi Cherradi\, Italian Centre Shop\n\nMichael Howell\, Green Turtle Club i
 n The Bahamas/Devour! The Food Film Fest\n\nChristopher Chafe\, Fairmont J
 asper Park Lodge\n\nFull weekend schedule coming very soon!\n\nPackage Inc
 ludes:\n\n 	Two nights accommodation\n 	Friday Evening Cabin Crawl Recepti
 on &amp\; Dinner\n 	Chili Cook-Off Luncheon\n 	Five Course Wine-Paired Cin
 ema Dinner\n 	Sunday Farewell Brunch\n 	Gratuities\n\nAvailability:\nBetwe
 en Friday\, February 07\, 2020 and Monday\, February 10\, 2020\n\nRates:\n
 Starting from $599 CAD per person\, based on double occupancy in a Fairmon
 t Room. Rates are subject to hotel availability and do not include taxes.\
 n\nPlease Note:\nSubject to hotel availability. Package must be booked as 
 a minimum 2 Night Stay – February 7 &amp\; 8\, 2020.
ATTACH;FMTTYPE=image/jpeg:https://devourfest.com/wp-content/uploads/2018/1
 1/rockies.jpg
LOCATION:Fairmont Jasper Park Lodge\, Old Lodge Road \, Jasper\, AB\, T0E 1
 E0 \, Canada
GEO:52.9083128;-118.05592660000002
X-APPLE-STRUCTURED-LOCATION;VALUE=URI;X-ADDRESS=Old Lodge Road \, Jasper\, 
 AB\, T0E 1E0 \, Canada;X-APPLE-RADIUS=100;X-TITLE=Fairmont Jasper Park Lod
 ge:geo:52.9083128,-118.05592660000002
END:VEVENT
BEGIN:VTIMEZONE
TZID:America/Halifax
X-LIC-LOCATION:America/Halifax
BEGIN:STANDARD
DTSTART:20191103T010000
TZOFFSETFROM:-0300
TZOFFSETTO:-0400
TZNAME:AST
END:STANDARD
END:VTIMEZONE
END:VCALENDAR