BEGIN:VCALENDAR
VERSION:2.0
PRODID:-//wp-events-plugin.com//7.2.3.1//EN
TZID:America/Halifax
X-WR-TIMEZONE:America/Halifax
BEGIN:VEVENT
UID:422@devourfest.com
DTSTART;TZID=America/Halifax:20180302T170000
DTEND;TZID=America/Halifax:20180304T170000
DTSTAMP:20171211T191611Z
URL:https://devourfest.com/program/devour-the-canadian-rockies-food-film-f
 estival-presented-by-fairmont-jasper-park-lodge/
SUMMARY:Devour! The Canadian Rockies Food Film Festival presented by Fairmo
 nt Jasper Park Lodge
DESCRIPTION:How excited are we to go here...first timers club! Psyched to h
 ead out to this beautiful part of our country this coming Spring.\nCome ce
 lebrate cinema\, food and wine with us in the heart of Jasper National Par
 k! Discover a love for food and film this spring while embracing the beaut
 y of the Canadian Rocky Mountains.\n\nPackage Includes:\n\n 	Two nights in
  luxury accommodations\n 	Welcome Amenity\n 	Friday Evening Reception &amp
 \; Cabin Crawl Dinner\n 	Saturday Lunch Dinner\n 	Sunday Brunch\n 	Cooking
  Demonstrations &amp\; Star Gazing\n 	Gratuities\n\nCelebrating with Chefs
 :\nChefs Connie DeSousa and John Jackson - CHARCUT/charbar\, Calgary AB\nC
 hef Paul Rogalski - Rouge\, Calgary AB\nChef Michael Howell - Wolfville\, 
 NS\nChef Christopher Chafe - Fairmont Jasper Park Lodge\nAvailability:\nBe
 tween Friday\, March 2\, 2018 and Sunday\, March 4\, 2018\n\nRates:\nRates
  starting from $449.00+ per night based on double occupancy in a Fairmont
  Room.\n\nPlease Note:\nSubject to hotel availability. Package must be boo
 ked as a minimum 2 Night Stay – March 2 &amp\; 3\, 2018.
ATTACH;FMTTYPE=image/jpeg:https://devourfest.com/wp-content/uploads/2017/1
 2/rockies.jpg
LOCATION:Fairmont Jasper Park Lodge\, Old Lodge Road \, Jasper\, AB\, T0E 1
 E0 \, Canada
GEO:52.9083128;-118.05592660000002
X-APPLE-STRUCTURED-LOCATION;VALUE=URI;X-ADDRESS=Old Lodge Road \, Jasper\, 
 AB\, T0E 1E0 \, Canada;X-APPLE-RADIUS=100;X-TITLE=Fairmont Jasper Park Lod
 ge:geo:52.9083128,-118.05592660000002
END:VEVENT
BEGIN:VTIMEZONE
TZID:America/Halifax
X-LIC-LOCATION:America/Halifax
BEGIN:STANDARD
DTSTART:20171105T010000
TZOFFSETFROM:-0300
TZOFFSETTO:-0400
TZNAME:AST
END:STANDARD
END:VTIMEZONE
END:VCALENDAR