BEGIN:VCALENDAR
VERSION:2.0
PRODID:-//wp-events-plugin.com//7.2.3.1//EN
TZID:America/Halifax
X-WR-TIMEZONE:America/Halifax
BEGIN:VEVENT
UID:203@devourfest.com
DTSTART;TZID=America/Halifax:20151107T083000
DTEND;TZID=America/Halifax:20151107T130000
DTSTAMP:20150918T120635Z
URL:https://devourfest.com/program/devour-the-grills-2/
SUMMARY:Devour! The Grills
DESCRIPTION:Two rounds of chefs will take turns grilling on our glorious Bi
 g Green Eggs. Fun for the whole family! Two sessions only: 9-11am &amp\; 1
 1am-1pm.\n\nFree admission!
LOCATION:Wolfville Farmer's Market\, 4 Elm Ave\, Wolfville\, NS\, B4P 2S3\,
  Canada
GEO:45.0920578;-64.36384250000003
X-APPLE-STRUCTURED-LOCATION;VALUE=URI;X-ADDRESS=4 Elm Ave\, Wolfville\, NS\
 , B4P 2S3\, Canada;X-APPLE-RADIUS=100;X-TITLE=Wolfville Farmer's Market:ge
 o:45.0920578,-64.36384250000003
END:VEVENT
BEGIN:VTIMEZONE
TZID:America/Halifax
X-LIC-LOCATION:America/Halifax
BEGIN:STANDARD
DTSTART:20151101T010000
TZOFFSETFROM:-0300
TZOFFSETTO:-0400
TZNAME:AST
END:STANDARD
END:VTIMEZONE
END:VCALENDAR