BEGIN:VCALENDAR
VERSION:2.0
PRODID:-//wp-events-plugin.com//7.2.3.1//EN
TZID:America/Halifax
X-WR-TIMEZONE:America/Halifax
BEGIN:VEVENT
UID:385@devourfest.com
DTSTART;TZID=America/Halifax:20171028T090000
DTEND;TZID=America/Halifax:20171028T130000
DTSTAMP:20171006T192359Z
URL:https://devourfest.com/program/devour-the-grills-culinary-school-taked
 own-edition/
SUMMARY:Devour! The Grills: Culinary School Takedown Edition
DESCRIPTION:Three culinary schools from across the country take turns grill
 ing on our glorious Big Green Eggs during a busy Saturday morning at the W
 olfville Farmers’ Market. Snack and wander through one of Atlantic Canad
 a’s market gems. Fun for the whole family! \n\nFree admission.\n\nBrough
 t to you by students and faculty of the Nova Scotia Community College\, Ge
 orge Brown College Chefs School and the Pacific Institute of Culinary Arts
 .
ATTACH;FMTTYPE=image/jpeg:https://devourfest.com/wp-content/uploads/2017/0
 8/Devour-The-Grills.jpeg
LOCATION:Wolfville Farmer's Market\, 4 Elm Ave\, Wolfville\, NS\, B4P 2S3\,
  Canada
GEO:45.0920578;-64.36384250000003
X-APPLE-STRUCTURED-LOCATION;VALUE=URI;X-ADDRESS=4 Elm Ave\, Wolfville\, NS\
 , B4P 2S3\, Canada;X-APPLE-RADIUS=100;X-TITLE=Wolfville Farmer's Market:ge
 o:45.0920578,-64.36384250000003
END:VEVENT
BEGIN:VTIMEZONE
TZID:America/Halifax
X-LIC-LOCATION:America/Halifax
BEGIN:DAYLIGHT
DTSTART:20170312T030000
TZOFFSETFROM:-0400
TZOFFSETTO:-0300
TZNAME:ADT
END:DAYLIGHT
END:VTIMEZONE
END:VCALENDAR