BEGIN:VCALENDAR
VERSION:2.0
PRODID:-//wp-events-plugin.com//7.2.3.1//EN
TZID:America/Halifax
X-WR-TIMEZONE:America/Halifax
BEGIN:VEVENT
UID:421@devourfest.com
DTSTART;TZID=America/Halifax:20180209T183000
DTEND;TZID=America/Halifax:20180209T213000
DTSTAMP:20180130T220154Z
URL:https://devourfest.com/program/devour-the-sea-3/
SUMMARY:Devour! The Sea: A Fundraiser for the Dartmouth North Community Foo
 d Centre
DESCRIPTION:\nWe're back with our second annual Devour! The Sea Fundraiser 
 partnering with the Maritime Museum of the Atlantic for the ultimate east 
 coast collaboration in support of our federal charity of choice\, the Dart
 mouth North Community Food Centre. \n\n\n \n\n\nIn a 'Night at the Museum
 '-style takeover\, some of Nova Scotia's most prominent chefs will create 
 dishes inspired by fun clips from classic sea-faring films that will be pa
 ired with wines from our partners at Bishop's Cellar and a special welcome
  cocktail from Mer et Soleil Fine Wine &amp\; Spirits. There will even be 
 pirates! All proceeds will go to the Centre.\n\n\n\nAttendees will have th
 e opportunity to purchase raffle tickets at the event to further support 
 the initiatives of the Dartmouth North Community Food Centre. Amazing priz
 es include–One roundtrip flight for two guests to any regularly schedule
 d WestJet destination*! (No cash value. Blackout dates and restrictions ap
 ply)\, a night for two with breakfast at the beautiful Algonquin Resort (b
 lackout dates apply)\, a romantic dinner for two at Le Caveau Restaurant a
 t Domaine de Grand Pré Winery\, a Benjamin Bridge Private Estate Tour &a
 mp\; Tasting for 12 people\, two tickets to this year’s Devour! The Fo
 od Film Fest Opening Gala Evening\, a Fogo Island Inn Gift Basket featur
 ing Fogo Island Inn wooden wares and more! This is just one of the many w
 ays you can support the work of the Centre onsite\, tickets will be sold t
 hroughout the evening for $10 each or 3 for $25. (Cash &amp\; cheque only 
 onsite).\n\nDress is business casual. Parking is a challenge around the mu
 seum due to construction downtown.\n\nParticipating Chefs:\n\nRenée Laval
 lée\, The Canteen\n\n\nMark Gray\, The Watch That Ends The Night\n\n\nSha
 ne Robilliard\, Fox Harb'r Resort\n\n\nStephanie Ogilvie\, The Brooklyn Wa
 rehouse\n\n\nDavid Smart\, The Bessie North House\n\n\nTerry Vassallo\, Ma
 ppatura Bistro\n
ATTACH;FMTTYPE=image/jpeg:https://devourfest.com/wp-content/uploads/2017/1
 2/blue.jpg
LOCATION:Maritime Museum of the Atlantic\, 1675 Lower Water St. \, Halifax\
 , NS\, B3J 1S3\, Canada
GEO:44.647533;-63.570789
X-APPLE-STRUCTURED-LOCATION;VALUE=URI;X-ADDRESS=1675 Lower Water St. \, Hal
 ifax\, NS\, B3J 1S3\, Canada;X-APPLE-RADIUS=100;X-TITLE=Maritime Museum of
  the Atlantic:geo:44.647533,-63.570789
END:VEVENT
BEGIN:VTIMEZONE
TZID:America/Halifax
X-LIC-LOCATION:America/Halifax
BEGIN:STANDARD
DTSTART:20171105T010000
TZOFFSETFROM:-0300
TZOFFSETTO:-0400
TZNAME:AST
END:STANDARD
END:VTIMEZONE
END:VCALENDAR