BEGIN:VCALENDAR
VERSION:2.0
PRODID:-//wp-events-plugin.com//7.2.3.1//EN
TZID:America/Halifax
X-WR-TIMEZONE:America/Halifax
BEGIN:VEVENT
UID:213@devourfest.com
DTSTART;TZID=America/Halifax:20151107T170000
DTEND;TZID=America/Halifax:20151107T190000
DTSTAMP:20151008T171145Z
URL:https://devourfest.com/program/dinner-film-devour-spotlight-gala-good-
 things-await-wla-botanique-des-amours/
SUMMARY:Devour! Spotlight Gala: Good Things Await w/La Botanique des Amours
DESCRIPTION:We’re thrilled to present our first ever Spotlight Gala highl
 ighting a film in our program that speaks to our Slow Food ethos\, along w
 ith some important festival sponsors ACORN\, Tap Root Farms\, Lightfoot &a
 mp\; Wolfville and our Founding Partner–Slow Food Nova Scotia.\n\nFood N
 etwork celebrity Bob Blumer will host a lively discussion with biodynamic 
 farmers and stars of the film Niels &amp\; Rita Stokholm\, who will be in 
 attendance from Denmark.\n\nGood Things Await\n\nNiels Stokholm has been a
  biodynamic farmer in Denmark for over 30 years. He along with his wife Ri
 ta are profoundly connected to their land\, the ebb and flow of each seaso
 n and the spiritual force of the earth and stars. All of this results in t
 he world’s top restaurants (like Noma) knocking on the farm door to proc
 ure produce\, meat and cheese for their exclusive menus. However\, he is a
 lso a repeat offender who balks against a bureaucratic system that doesn
 ’t understand his kind of animal husbandry: living harmoniously with the
  Danish Red cattle he fights so hard to preserve.\nDenmark\, 2014\, 90 min
 utes\nDirector Phie Ambo\nDistributor CAT&amp\;Docs\n\n\n\nLa Botanique de
 s Amours\nThe pages of botanical illustrations come alive and may be feeli
 ng the love in this delightful animation.\nBelgium\, 2014\, 4 minutes\nDir
 ectors Laura Nicolas &amp\; Anne-Sophie Cayon\n\nPlease note: This film is
  providing the inspiration for the Dinner with Ned Bell\, Michael Hoffma
 nn &amp\; Michael Städtlander.
ATTACH;FMTTYPE=image/jpeg:https://devourfest.com/wp-content/uploads/2015/0
 9/rsz_good_things_await.jpg
LOCATION:Harvey Denton Hall\, Acadia University\, 12 Horton Ave.\, Wolfvill
 e\, NS\, B4P 2R6\, King's County\, Canada
GEO:45.0886824;-64.3654565
X-APPLE-STRUCTURED-LOCATION;VALUE=URI;X-ADDRESS=12 Horton Ave.\, Wolfville\
 , NS\, B4P 2R6\, King's County\, Canada;X-APPLE-RADIUS=100;X-TITLE=Harvey 
 Denton Hall\, Acadia University:geo:45.0886824,-64.3654565
END:VEVENT
BEGIN:VTIMEZONE
TZID:America/Halifax
X-LIC-LOCATION:America/Halifax
BEGIN:STANDARD
DTSTART:20151101T010000
TZOFFSETFROM:-0300
TZOFFSETTO:-0400
TZNAME:AST
END:STANDARD
END:VTIMEZONE
END:VCALENDAR