BEGIN:VCALENDAR
VERSION:2.0
PRODID:-//wp-events-plugin.com//7.2.3.1//EN
TZID:America/Halifax
X-WR-TIMEZONE:America/Halifax
BEGIN:VEVENT
UID:64@devourfest.com
DTSTART;TZID=America/Halifax:20140620T204500
DTEND;TZID=America/Halifax:20140620T230000
DTSTAMP:20140617T162442Z
URL:https://devourfest.com/program/dinner-inspired-by-le-chef/
SUMMARY:Dinner Inspired by Le Chef
DESCRIPTION:Following Le Chef\, David Smart will host a dinner inspired by 
 the movie at Front and Central\, located on 117 Front St. in Wolfville. Di
 nner will start at 8:45 p.m. and will include a three-course meal incorpor
 ating original ideas based on the film. A menu will be posted to our websi
 te shortly.\n\nFront and Central has recently been named to Vacay.ca’s 1
 00 Best Restaurants in Canada list. Chef David Smart will be competing in 
 the upcoming Gold Medal Plates event\, which will take place in Halifax th
 is coming October.
ATTACH;FMTTYPE=image/jpeg:https://devourfest.com/wp-content/uploads/2014/0
 6/10342465_416288135177534_2984403255639578402_n.jpg
LOCATION:Front and Central\, 117 Front St\, Wolfville\, NS\, B4P 2A6\, Cana
 da
GEO:45.092194;-64.361855
X-APPLE-STRUCTURED-LOCATION;VALUE=URI;X-ADDRESS=117 Front St\, Wolfville\, 
 NS\, B4P 2A6\, Canada;X-APPLE-RADIUS=100;X-TITLE=Front and Central:geo:45.
 092194,-64.361855
END:VEVENT
BEGIN:VTIMEZONE
TZID:America/Halifax
X-LIC-LOCATION:America/Halifax
BEGIN:DAYLIGHT
DTSTART:20140309T030000
TZOFFSETFROM:-0400
TZOFFSETTO:-0300
TZNAME:ADT
END:DAYLIGHT
END:VTIMEZONE
END:VCALENDAR