BEGIN:VCALENDAR
VERSION:2.0
PRODID:-//wp-events-plugin.com//7.2.3.1//EN
TZID:America/Halifax
X-WR-TIMEZONE:America/Halifax
BEGIN:VEVENT
UID:158@devourfest.com
DTSTART;TZID=America/Halifax:20151105T110000
DTEND;TZID=America/Halifax:20151105T123000
DTSTAMP:20150920T031554Z
URL:https://devourfest.com/program/food-photographystyling-with-dennis-pre
 scott/
SUMMARY:Food Photography/Styling with Dennis Prescott
DESCRIPTION:If we eat with our eyes\, nowadays it seems that the camera eat
 s first. Whether for Instagram\, Facebook\, or documenting our food advent
 ures\, food photography has absolutely taken over the visual landscape. Th
 rough social media\, a personal blog\, or commercial work\, food photograp
 hy and styling has a special ability to inspire us in the kitchen\, with a
  camera\, and ultimately make us incredibly hungry. In this hands-on works
 hop\, attendees will learn practical tips on lighting\, props\, styling\, 
 and general food photography. We will style several dishes together\, have
  a ton of fun\, and leave better at our craft.\n\n\n\nDennis Prescott\n\nD
 ennis Prescott is a food photographer\, stylist\, blogger\, and a proud Ma
 ritimer. A regular contributor to Food &amp\; Wine Magazine\, and a recipe
  developer working with brands like Frigidaire\, Reynold's\, Baking Steel\
 , Nomiku\, and Vita Coco\, he is constantly taking the idea of #foodporn t
 o the next mouth-watering level. Dennis is the author of DennisThePrescott
 .com\, and can be found there\, on Instagram\, or somewhere that delicious
  things are happening. 
ATTACH;FMTTYPE=image/jpeg:https://devourfest.com/wp-content/uploads/2015/0
 9/Dennis-Prescott-Workshop-3.jpg
LOCATION:Al Whittle Theatre - Studio Z\, 450 Main St\, Wolfville\, NS\, B4P
  1E2\, Canada
GEO:45.091618;-64.362640
X-APPLE-STRUCTURED-LOCATION;VALUE=URI;X-ADDRESS=450 Main St\, Wolfville\, N
 S\, B4P 1E2\, Canada;X-APPLE-RADIUS=100;X-TITLE=Al Whittle Theatre - Studi
 o Z:geo:45.091618,-64.362640
END:VEVENT
BEGIN:VTIMEZONE
TZID:America/Halifax
X-LIC-LOCATION:America/Halifax
BEGIN:STANDARD
DTSTART:20151101T010000
TZOFFSETFROM:-0300
TZOFFSETTO:-0400
TZNAME:AST
END:STANDARD
END:VTIMEZONE
END:VCALENDAR