BEGIN:VCALENDAR
VERSION:2.0
PRODID:-//wp-events-plugin.com//7.2.3.1//EN
TZID:America/Halifax
X-WR-TIMEZONE:America/Halifax
BEGIN:VEVENT
UID:729@devourfest.com
DTSTART;TZID=America/Halifax:20211021T190000
DTEND;TZID=America/Halifax:20211021T210000
DTSTAMP:20211021T141744Z
URL:https://devourfest.com/program/fries-w-the-cocktail-party-in-person/
SUMMARY:Fries! w/The Cocktail Party - IN PERSON
DESCRIPTION:Fries! The Movie\n\nFries! The Movie explores every deliciously
  salty and oft-overlooked crinkle of the french fry. It takes us on a jour
 ney around the world—from the origin of the potato in Peru\, through the
  highly contested early history of the fry in Europe and the United States
 —and dives into the culinary traditions transformed over time\, the deep
 est and darkest controversies\, and the people who love them.\n\nUSA\, 202
 0\, 82 minutes\nDirector Michael Steed\nDistributor Zero Point Zero\n\nThe
  Cocktail Party\n\n\n\nA cocktail party turns into an unexpected martial a
 rts action film.\n\nUSA\, 2021\, 5 minutes\nDirector Jessica Sanders\n\nTi
 ckets:\n$30.00 Carload\n$20.00 Couple\n$10.00 Single\n\nIn keeping with No
 va Scotia provincial health regulations and a desire to keep all our guest
 s safe and healthy\, Devour! will require proof of full Covid-19 vaccine i
 mmunization along with a valid photo ID upon entry to all events with no e
 xceptions. For all Devour! Covid Protocols\, please visit our website.
ATTACH;FMTTYPE=image/jpeg:https://devourfest.com/wp-content/uploads/2021/0
 9/Fries-The-Movie.jpg
LOCATION:Valley Drive-In Theatre\, 5934 Highway #1\, Cambridge Station\, NS
 \, B0P 1G0\, Canada
GEO:45.029271;-64.810199
X-APPLE-STRUCTURED-LOCATION;VALUE=URI;X-ADDRESS=5934 Highway #1\, Cambridge
  Station\, NS\, B0P 1G0\, Canada;X-APPLE-RADIUS=100;X-TITLE=Valley Drive-I
 n Theatre:geo:45.029271,-64.810199
END:VEVENT
BEGIN:VTIMEZONE
TZID:America/Halifax
X-LIC-LOCATION:America/Halifax
BEGIN:DAYLIGHT
DTSTART:20210314T030000
TZOFFSETFROM:-0400
TZOFFSETTO:-0300
TZNAME:ADT
END:DAYLIGHT
END:VTIMEZONE
END:VCALENDAR