BEGIN:VCALENDAR
VERSION:2.0
PRODID:-//wp-events-plugin.com//7.2.3.1//EN
TZID:America/Halifax
X-WR-TIMEZONE:America/Halifax
BEGIN:VEVENT
UID:730@devourfest.com
DTSTART;TZID=America/Halifax:20211021T190000
DTEND;TZID=America/Halifax:20211021T210000
DTSTAMP:20211002T143028Z
URL:https://devourfest.com/program/fries-w-the-cocktail-party-online/
SUMMARY:Fries! w/The Cocktail Party - ONLINE
DESCRIPTION:Fries! The Movie\n\nFries! The Movie explores every deliciously
  salty and oft-overlooked crinkle of the french fry. It takes us on a jour
 ney around the world—from the origin of the potato in Peru\, through the
  highly contested early history of the fry in Europe and the United States
 —and dives into the culinary traditions transformed over time\, the deep
 est and darkest controversies\, and the people who love them.\n\nUSA\, 202
 0\, 82 minutes\nDirector Michael Steed\nDistributor Zero Point Zero\n\nThe
  Cocktail Party\n\n\n\nA cocktail party turns into an unexpected martial a
 rts action film.\n\nUSA\, 2021\, 5 minutes\nDirector Jessica Sanders
ATTACH;FMTTYPE=image/jpeg:https://devourfest.com/wp-content/uploads/2021/0
 9/Fries-The-Movie.jpg
LOCATION:Online\, Online\,  \, Online\, Online\, Online\, Canada
GEO:43.808785;-79.334046
X-APPLE-STRUCTURED-LOCATION;VALUE=URI;X-ADDRESS=Online\,  \, Online\, Onlin
 e\, Online\, Canada;X-APPLE-RADIUS=100;X-TITLE=Online:geo:43.808785,-79.33
 4046
END:VEVENT
BEGIN:VTIMEZONE
TZID:America/Halifax
X-LIC-LOCATION:America/Halifax
BEGIN:DAYLIGHT
DTSTART:20210314T030000
TZOFFSETFROM:-0400
TZOFFSETTO:-0300
TZNAME:ADT
END:DAYLIGHT
END:VTIMEZONE
END:VCALENDAR