BEGIN:VCALENDAR
VERSION:2.0
PRODID:-//wp-events-plugin.com//7.2.3.1//EN
TZID:America/Halifax
X-WR-TIMEZONE:America/Halifax
BEGIN:VEVENT
UID:448@devourfest.com
DTSTART;TZID=America/Halifax:20181025T100000
DTEND;TZID=America/Halifax:20181025T160000
DTSTAMP:20180921T113908Z
URL:https://devourfest.com/program/from-the-wild-filmmaking-intensive-w-ke
 vin-kossowan-chef-blair-lebsak/
SUMMARY:From the Wild Filmmaking Intensive w/Kevin  Kossowan & Chef Blair L
 ebsak
DESCRIPTION:In this daylong workshop\, From the Wild filmmaker Kevin Kossow
 an and Chef Blair Lebsak of Edmonton’s RGE RD take chefs and filmmakers 
 into the wilds of Nova Scotia to hunt\, fish\, forage and film.\n$65.00 pe
 r guest\, includes transport and a meal\n\nKevin Kossowan\n\nKevin Kossowa
 n is an Edmonton-based filmmaker telling stories from the world of food. H
 is series ‘From The Wild’ is in Season 4 of production\, sharing his j
 ourney exploring the outdoors through a culinary lens - hunting\, fishing\
 , and foraging through all seasons. Kevin has also worked on the most rece
 nt iteration of Cook It Raw\, in Norway\, with founder Alessandro Porcelli
 . He is launching a series of food skills workshops called Food Workshop\,
  teaching fundamental food skills (butchery\, gardening\, charcuterie\, ci
 der making\, etc.) to the at-home cook. @kevinkossowan\n\nBlair Lebsack\n\
 nBlair gained his experience as an executive chef working throughout Alber
 ta and the Prairies. He now calls Edmonton home and is the owner and chef 
 of RGE RD (Range Road). RGE RD grew out of a series of local farm dinners 
 and transitioned into a lauded restaurant earning mentions on “best of
 ” lists locally and nationally. Rather than emulate a style of cuisine o
 r be pegged as something that can be instantly categorized\, RGE RD endeav
 ours to be “untamed” — reflecting the ever changing landscape and th
 e spirit of the city. Blair’s cooking exemplifies the philosophy of loca
 l\, healthful and ethical food\, while also reimagining the dining experie
 nce as belonging to a specific time and place. @blairlebsak
ATTACH;FMTTYPE=image/jpeg:https://devourfest.com/wp-content/uploads/2018/0
 9/From-the-Wild-Filmmaking-Intensive-w-Kevin-Kossowan-and-Blair-Lebsak-cro
 pped.jpeg
LOCATION:Linden Avenue & Main Street\, Linden Avenue &amp\; Main Street\, W
 olfville\, NS\, Canada
GEO:45.091400;-64.362785
X-APPLE-STRUCTURED-LOCATION;VALUE=URI;X-ADDRESS=Linden Avenue & Main Street
 \, Wolfville\, NS\, Canada;X-APPLE-RADIUS=100;X-TITLE=Linden Avenue & Main
  Street:geo:45.091400,-64.362785
END:VEVENT
BEGIN:VTIMEZONE
TZID:America/Halifax
X-LIC-LOCATION:America/Halifax
BEGIN:DAYLIGHT
DTSTART:20180311T030000
TZOFFSETFROM:-0400
TZOFFSETTO:-0300
TZNAME:ADT
END:DAYLIGHT
END:VTIMEZONE
END:VCALENDAR