BEGIN:VCALENDAR
VERSION:2.0
PRODID:-//wp-events-plugin.com//7.2.3.1//EN
TZID:America/Halifax
X-WR-TIMEZONE:America/Halifax
BEGIN:VEVENT
UID:760@devourfest.com
DTSTART;TZID=America/Halifax:20211023T200000
DTEND;TZID=America/Halifax:20211023T213500
DTSTAMP:20210929T193636Z
URL:https://devourfest.com/program/gather-w-terms-and-conditions-online/
SUMMARY:Gather w/Terms and Conditions - ONLINE
DESCRIPTION:Gather\nFrom an ambitious Apache chef to a gifted Lakota high s
 chool student\, Gather follows the stories of natives on the frontlines of
  a growing movement to reconnect with spiritual and cultural identities th
 at were devastated by genocide. Together\, they show how the reclaiming an
 d recovery of ancient food ways is a way forward for native Americans to b
 ring back health and vitality to their people.\nUSA\, 2020\, 74 minutes\, 
 Nations: White Mountain Apache Nation\, Cheyenne River Sioux Nation\, Yuro
 k Nation\nDirector Sanjay Rawal\nDistributor Visit Films\n\nTerms and Cond
 itions\n\nDespite numerous challenges\, Fritz wants to keep running his sm
 all farm as usual\, but his daughter has other online ideas. Just when thi
 ngs are looking up\, the family realizes it’s always business according 
 to someone else’s terms and conditions.\nGermany\, 2020\, 20 minutes\nDi
 rector Amelie Befeldt\n\nSponsored by The North Grove and the Dairy Farme
 rs of Canada
ATTACH;FMTTYPE=image/jpeg:https://devourfest.com/wp-content/uploads/2021/0
 9/Gather-scaled.jpg
LOCATION:Online\, Online\,  \, Online\, Online\, Online\, Canada
GEO:43.808785;-79.334046
X-APPLE-STRUCTURED-LOCATION;VALUE=URI;X-ADDRESS=Online\,  \, Online\, Onlin
 e\, Online\, Canada;X-APPLE-RADIUS=100;X-TITLE=Online:geo:43.808785,-79.33
 4046
END:VEVENT
BEGIN:VTIMEZONE
TZID:America/Halifax
X-LIC-LOCATION:America/Halifax
BEGIN:DAYLIGHT
DTSTART:20210314T030000
TZOFFSETFROM:-0400
TZOFFSETTO:-0300
TZNAME:ADT
END:DAYLIGHT
END:VTIMEZONE
END:VCALENDAR