BEGIN:VCALENDAR
VERSION:2.0
PRODID:-//wp-events-plugin.com//7.2.3.1//EN
TZID:America/Halifax
X-WR-TIMEZONE:America/Halifax
BEGIN:VEVENT
UID:573@devourfest.com
DTSTART;TZID=America/Halifax:20191027T140000
DTEND;TZID=America/Halifax:20191027T154500
DTSTAMP:20190911T142409Z
URL:https://devourfest.com/program/ghost-fleet-w-hybrids/
SUMMARY:Ghost Fleet w/Hybrids
DESCRIPTION:Ghost Fleet is a haunting documentary that uncovers the vast in
 justice of slavery in the Thai fishing industry through thrilling escape s
 tories. Thailand supplies a large portion of the world’s seafood\, but T
 hailand’s giant fishing fleet is chronically short tens of thousands of 
 fishermen per year.\nUSA\, 2018\, 90 minutes\nDirectors Shannon Service &a
 mp\; Jeffrey Waldron\nDistributor Vulcan Productions\n\nHybrids\n\nWhat’
 s under the sea is beyond your wildest dreams. Mother Nature personified i
 n this brilliant animated short.\nFrance\, 2018\, 6 minutes\nDirectors Flo
 rian Brauch\, Matthieu Pujol\, Kim Tailhades\, Yohan Thireau &amp\; Romain
  Thirion
ATTACH;FMTTYPE=image/jpeg:https://devourfest.com/wp-content/uploads/2019/0
 9/Ghost-Fleet_resized.jpg
LOCATION:Al Whittle Theatre\, 450 Main St\, Wolfville\, NS\, B4P 1E2\, Cana
 da
GEO:45.0915;-64.362765
X-APPLE-STRUCTURED-LOCATION;VALUE=URI;X-ADDRESS=450 Main St\, Wolfville\, N
 S\, B4P 1E2\, Canada;X-APPLE-RADIUS=100;X-TITLE=Al Whittle Theatre:geo:45.
 0915,-64.362765
END:VEVENT
BEGIN:VTIMEZONE
TZID:America/Halifax
X-LIC-LOCATION:America/Halifax
BEGIN:DAYLIGHT
DTSTART:20190310T030000
TZOFFSETFROM:-0400
TZOFFSETTO:-0300
TZNAME:ADT
END:DAYLIGHT
END:VTIMEZONE
END:VCALENDAR