BEGIN:VCALENDAR
VERSION:2.0
PRODID:-//wp-events-plugin.com//7.2.3.1//EN
TZID:America/Halifax
X-WR-TIMEZONE:America/Halifax
BEGIN:VEVENT
UID:572@devourfest.com
DTSTART;TZID=America/Halifax:20191026T201500
DTEND;TZID=America/Halifax:20191026T214500
DTSTAMP:20190911T142401Z
URL:https://devourfest.com/program/hang-time-w-sweater/
SUMMARY:Hang Time w/Sweater
DESCRIPTION:A wine movie for millennials! Three 20-something friends get so
 me much-needed hang time when a cancelled wedding reunites them for a long
  weekend together at a beautiful vineyard. But it’s not all fun\, sun\, 
 and drinking games. There are bigger issues bubbling beneath the banter. A
  poignant look at modern masculinity and complex relationships.\nNew Zeala
 nd\, 2018\, 83 minutes\nDirector Casey Zilbert\nDistributor Hang Time\n\nS
 weater\n\nSuccess in dating is all about THE sweater...and a raucous chore
 ographed dance routine.\nUSA\, 2019\, 5 minutes\nDirector Nick Borenstein
ATTACH;FMTTYPE=image/jpeg:https://devourfest.com/wp-content/uploads/2019/0
 9/Hang-Time_resized.jpg
LOCATION:Al Whittle Theatre - Studio Z\, 450 Main St\, Wolfville\, NS\, B4P
  1E2\, Canada
GEO:45.091618;-64.362640
X-APPLE-STRUCTURED-LOCATION;VALUE=URI;X-ADDRESS=450 Main St\, Wolfville\, N
 S\, B4P 1E2\, Canada;X-APPLE-RADIUS=100;X-TITLE=Al Whittle Theatre - Studi
 o Z:geo:45.091618,-64.362640
END:VEVENT
BEGIN:VTIMEZONE
TZID:America/Halifax
X-LIC-LOCATION:America/Halifax
BEGIN:DAYLIGHT
DTSTART:20190310T030000
TZOFFSETFROM:-0400
TZOFFSETTO:-0300
TZNAME:ADT
END:DAYLIGHT
END:VTIMEZONE
END:VCALENDAR