BEGIN:VCALENDAR
VERSION:2.0
PRODID:-//wp-events-plugin.com//7.2.3.1//EN
TZID:America/Halifax
X-WR-TIMEZONE:America/Halifax
BEGIN:VEVENT
UID:214@devourfest.com
DTSTART;TZID=America/Halifax:20151107T200000
DTEND;TZID=America/Halifax:20151107T213000
DTSTAMP:20150920T193944Z
URL:https://devourfest.com/program/hangry-for-more-drama-film-program-the-
 chicken-iron-deficiency-reservations-for-three-well-find-something-2/
SUMMARY:Hangry for More Drama (Shorts Film Program)
DESCRIPTION:The Chicken\nIn war-torn Sarajevo\, a mother will do anything f
 or her kids\, including avoiding gunfire to feed them.\nGermany/Croatia\, 
 2014\, 15 minutes\nDirector Una Gunjack\n\n\n\nIron Deficiency\nHands down
 \, one of the strangest interactions on a hike – and over nutrition and 
 dietary issues at that.\nEstonia\, 2015\, 12 minutes\nDirector Sander Jahi
 lo\n\n\n\nReservations for Three?\nSome dinner conversations are better le
 ft at home… or are they?\nCanada\, 2015\, 13 minutes\nDirector Steven Be
 nnett\n\n\n\nWe’ll Find Something\nRemember that time\, when you were hu
 ngry and couldn’t decide what to eat until there’s nothing actually av
 ailable to eat and you’re just hangry?\nUSA\, 2015\, 12 minutes\nDirecto
 r Casey Gooden
ATTACH;FMTTYPE=image/jpeg:https://devourfest.com/wp-content/uploads/2015/0
 9/rsz_the_chicken.jpg
LOCATION:Al Whittle Theatre - Studio Z\, 450 Main St\, Wolfville\, NS\, B4P
  1E2\, Canada
GEO:45.091618;-64.362640
X-APPLE-STRUCTURED-LOCATION;VALUE=URI;X-ADDRESS=450 Main St\, Wolfville\, N
 S\, B4P 1E2\, Canada;X-APPLE-RADIUS=100;X-TITLE=Al Whittle Theatre - Studi
 o Z:geo:45.091618,-64.362640
END:VEVENT
BEGIN:VTIMEZONE
TZID:America/Halifax
X-LIC-LOCATION:America/Halifax
BEGIN:STANDARD
DTSTART:20151101T010000
TZOFFSETFROM:-0300
TZOFFSETTO:-0400
TZNAME:AST
END:STANDARD
END:VTIMEZONE
END:VCALENDAR