BEGIN:VCALENDAR
VERSION:2.0
PRODID:-//wp-events-plugin.com//7.2.3.1//EN
TZID:America/Halifax
X-WR-TIMEZONE:America/Halifax
BEGIN:VEVENT
UID:464@devourfest.com
DTSTART;TZID=America/Halifax:20181025T173000
DTEND;TZID=America/Halifax:20181025T193000
DTSTAMP:20181002T181320Z
URL:https://devourfest.com/program/happy-hour-at-the-festival-lounge-hoste
 d-by-the-devour-board-of-directors/
SUMMARY:Happy Hour at the Festival Lounge  hosted by the Devour! Board of D
 irectors
DESCRIPTION:Join us in our most hospitable of hours at the Devour! Festival
  Lounge over three days of the festival. Raise a glass and mingle with an 
 interesting crew night after night. On this special evening\, members from
  our Devour! Board of Directors and Devour! Advisory Panel will be on hand
  to meet and host you. Come meet the team who supports our every move!\n\n
 Admittance with a festival badge or ticket. Restricted to 19 years of age 
 or older. 
ATTACH;FMTTYPE=image/jpeg:https://devourfest.com/wp-content/uploads/2018/0
 9/Happy-Hour-1.jpeg
LOCATION:Devour! Festival Lounge & Box Office\, 12 Elm Avenue\, Wolfville\,
  NS\, B4P 2S2\, Canada
GEO:45.092171;-64.364128
X-APPLE-STRUCTURED-LOCATION;VALUE=URI;X-ADDRESS=12 Elm Avenue\, Wolfville\,
  NS\, B4P 2S2\, Canada;X-APPLE-RADIUS=100;X-TITLE=Devour! Festival Lounge 
 & Box Office:geo:45.092171,-64.364128
END:VEVENT
BEGIN:VTIMEZONE
TZID:America/Halifax
X-LIC-LOCATION:America/Halifax
BEGIN:DAYLIGHT
DTSTART:20180311T030000
TZOFFSETFROM:-0400
TZOFFSETTO:-0300
TZNAME:ADT
END:DAYLIGHT
END:VTIMEZONE
END:VCALENDAR