BEGIN:VCALENDAR
VERSION:2.0
PRODID:-//wp-events-plugin.com//7.2.3.1//EN
TZID:America/Halifax
X-WR-TIMEZONE:America/Halifax
BEGIN:VEVENT
UID:891@devourfest.com
DTSTART;TZID=America/Halifax:20231026T200000
DTEND;TZID=America/Halifax:20231026T221500
DTSTAMP:20231015T175022Z
URL:https://devourfest.com/program/hard-shell-soft-shell-w-caregiver/
SUMMARY:Hard Shell\, Soft Shell w/Caregiver
DESCRIPTION:Hard Shell\, Soft Shell (Fragile)\nAz\, an oyster worker in Sè
 te\, has just been dumped by his girlfriend\, Jessica\, a starlet from a l
 ocal TV series. For Az\, it’s the end of the world. On the 36th floor\, 
 he chooses to follow the advice of his childhood friend\, Lila.\nFrance\, 
 2021\, 100 minutes\nDirector: Emma Benestan\nDistributor: h264 Studios\n\n
 \nCaregiver (Auxiliare)\nDuring a night of doubt\, Marc\, a tormented care
 giver and wannabe chef\, has to tell Quentin (his disabled best friend who
 m he has been caring for several years) that he will not be coming back to
  work the next day.\nFrance\, 2022\, 24 minutes\nDirector: Lucas Bacle\nSp
 onsored by Alliance Française Halifax and Consulat Général de France à
  Moncton et Halifax
ATTACH;FMTTYPE=image/jpeg:https://devourfest.com/wp-content/uploads/2023/0
 8/Hard-Shell-Soft-Shell.jpg
CATEGORIES:FILM
LOCATION:Al Whittle Theatre\, 450 Main St\, Wolfville\, NS\, B4P 1E2\, Cana
 da
GEO:45.0915;-64.362765
X-APPLE-STRUCTURED-LOCATION;VALUE=URI;X-ADDRESS=450 Main St\, Wolfville\, N
 S\, B4P 1E2\, Canada;X-APPLE-RADIUS=100;X-TITLE=Al Whittle Theatre:geo:45.
 0915,-64.362765
END:VEVENT
BEGIN:VTIMEZONE
TZID:America/Halifax
X-LIC-LOCATION:America/Halifax
BEGIN:DAYLIGHT
DTSTART:20230312T030000
TZOFFSETFROM:-0400
TZOFFSETTO:-0300
TZNAME:ADT
END:DAYLIGHT
END:VTIMEZONE
END:VCALENDAR