BEGIN:VCALENDAR
VERSION:2.0
PRODID:-//wp-events-plugin.com//7.2.3.1//EN
TZID:America/Halifax
X-WR-TIMEZONE:America/Halifax
BEGIN:VEVENT
UID:723@devourfest.com
DTSTART;TZID=America/Halifax:20211022T110000
DTEND;TZID=America/Halifax:20211022T123600
DTSTAMP:20210923T124127Z
URL:https://devourfest.com/program/hell-or-clean-water-w-the-urchin-diver-
 in-person/
SUMMARY:Hell or Clean Water w/The Urchin Diver - IN PERSON
DESCRIPTION:Hell or Clean Water\n\nFormer fisherman Shawn Bath—who just 1
 0 years earlier thought nothing of tossing garbage out of his truck window
 —has an epiphany when he starts diving the harbours of his native Newfou
 ndland. He makes it his mission to clean the ocean floor\, one truck tire 
 at a time.\n\nCanada\, 2021\, 88 minutes\nDirector Cody Westman\nDistribut
 or Little Heat Films\n\nThe Urchin Diver\n\n\n\nConner Rhoads and his fami
 ly have made a living off of the sea for over 40 years\, but with the coll
 apse of the kelp forest in California\, their living and way of life may n
 ever be the same again.\n\nUSA\, 2021\, 6 minutes\nDirector Tyler Schiffma
 n
ATTACH;FMTTYPE=image/jpeg:https://devourfest.com/wp-content/uploads/2021/0
 9/222.jpg
LOCATION:Al Whittle Theatre\, 450 Main St\, Wolfville\, NS\, B4P 1E2\, Cana
 da
GEO:45.0915;-64.362765
X-APPLE-STRUCTURED-LOCATION;VALUE=URI;X-ADDRESS=450 Main St\, Wolfville\, N
 S\, B4P 1E2\, Canada;X-APPLE-RADIUS=100;X-TITLE=Al Whittle Theatre:geo:45.
 0915,-64.362765
END:VEVENT
BEGIN:VTIMEZONE
TZID:America/Halifax
X-LIC-LOCATION:America/Halifax
BEGIN:DAYLIGHT
DTSTART:20210314T030000
TZOFFSETFROM:-0400
TZOFFSETTO:-0300
TZNAME:ADT
END:DAYLIGHT
END:VTIMEZONE
END:VCALENDAR