BEGIN:VCALENDAR
VERSION:2.0
PRODID:-//wp-events-plugin.com//7.2.3.1//EN
TZID:America/Halifax
X-WR-TIMEZONE:America/Halifax
BEGIN:VEVENT
UID:976@devourfest.com
DTSTART;TZID=America/Halifax:20241027T150000
DTEND;TZID=America/Halifax:20241027T165500
DTSTAMP:20240905T015754Z
URL:https://devourfest.com/program/holy-cow-w-gone-good-ode-de-fromage/
SUMMARY:Holy Cow w/Gone Good: Ode de Fromage
DESCRIPTION:Totone’s carefree teenage life of drinking and dancing abrupt
 ly shifts when he becomes the sole provider for his 7-year-old sister. Des
 perate for income\, he focuses on creating an award-winning comté cheese 
 to win a competition prize\, showcasing his determination and resilience i
 n the face of adversity.\nFrance\, 2024\, 90 minutes\nDirector: Louise Cou
 rvoisier\nDistributor: Zeitgeist Films\n\nGone Good: Ode de Fromage\n\nDel
 ve into the fascinating world of cheese making\, as French artisans and fe
 rmentation experts reveal the crucial role of fungi.\nUSA\, 2024\, 20 minu
 tes\nDirector: Hamilton Pevec \n
ATTACH;FMTTYPE=image/jpeg:https://devourfest.com/wp-content/uploads/2024/0
 9/Holy-Cow-e1725301813790.jpeg
CATEGORIES:FILM
LOCATION:Al Whittle Theatre\, 450 Main St\, Wolfville\, NS\, B4P 1E2\, Cana
 da
GEO:45.0915;-64.362765
X-APPLE-STRUCTURED-LOCATION;VALUE=URI;X-ADDRESS=450 Main St\, Wolfville\, N
 S\, B4P 1E2\, Canada;X-APPLE-RADIUS=100;X-TITLE=Al Whittle Theatre:geo:45.
 0915,-64.362765
END:VEVENT
BEGIN:VTIMEZONE
TZID:America/Halifax
X-LIC-LOCATION:America/Halifax
BEGIN:DAYLIGHT
DTSTART:20240310T030000
TZOFFSETFROM:-0400
TZOFFSETTO:-0300
TZNAME:ADT
END:DAYLIGHT
END:VTIMEZONE
END:VCALENDAR