BEGIN:VCALENDAR
VERSION:2.0
PRODID:-//wp-events-plugin.com//7.2.3.1//EN
TZID:America/Halifax
X-WR-TIMEZONE:America/Halifax
BEGIN:VEVENT
UID:104@devourfest.com
DTSTART;TZID=America/Halifax:20141115T100000
DTEND;TZID=America/Halifax:20141115T113000
DTSTAMP:20140922T113956Z
URL:https://devourfest.com/program/how-to-generate-tasty-social-media-cont
 ent-to-support-your-business-with-t4g-kick/
SUMMARY:How to Generate Tasty Social Media Content to Support Your Business
  with T4G Kick
DESCRIPTION:How do you make the most of social media AND have time to run y
 our restaurant\, food blog or farm? T4G Kick's Lily Sangster &amp\; Stepha
 nie McGrath will take you through a series of interactive exercises to tea
 ch you how to begin creating content for your social media accounts in a w
 ay that won't take you away from the dinner rush.\n\nThe best part? We'll 
 show you how! With a few simple planning steps\, you can save yourself bot
 h time and effort. Join us as we work through deciding which social channe
 ls can work for you\, how to identify your brand voice\, how to create and
  maintain an editorial calendar\, how to keep an eye on working and what y
 ou can make work better for your business. Whether you're a social media n
 ewbie or want to pump up your existing channels\, we'll show you tips and 
 tricks that will make your social presence - and your delicious creations 
 - stand out from the crowd.\n\nStephanie McGrath\n\n\n\nStephanie's online
  odyssey began with her first job in 1999\, after graduating from the Univ
 ersity of King's College with a Bachelor of Journalism\, Honours. That's w
 hen she was tasked with interviewing pop stars and evaluating Britney Spea
 rs concerts for Canoe.ca. The job morphed into a life creating digital con
 tent and strategizing new ways to organize and measure its success.\n\nNow
 \, she’s a Digital Content Strategist by day. During the evenings she ke
 eps her writing skills sharp with freelance work for the Halifax Chronicle
  Herald\, Huffington Post Canada\, MSN\, TheLoop.ca and Definitely Not the
  Opera.\n\nStephanie tries to master one new professional skill each year 
 and recently completed the Video Storytelling Workshop at KDMC Berkeley\, 
 University of California\, Berkeley Graduate School of Journalism. To date
 \, Martin Scorsese is not feeling threatened.\n\nStephanie’s work in the
  digital field earned her a place on 21Inc’s list of Top 50 Emerging Lea
 ders in 2013 and a speaking engagement at the New Canada Conference in Cha
 rlottetown\, P.E.I. in 2014.\n\nIn her spare time\, Stephanie is over-indu
 lging in Netflix\, running the Halifax streets to compensate for her overi
 ndulgence in food and indulging her dog Mo.\n\nLily Sangster\n\n\n\nLily b
 rings a fresh\, quirky\, and utterly original outlook to the content she a
 ggregates and creates. With a Master of Journalism\, Digital &amp\; New Me
 dia Degree from the University of King’s College\, Lily’s skills make 
 her the perfect person to keep social channels and websites alive with fre
 sh content.\n\nIn her role as a Content Strategist\, Lily focuses on T4G K
 ick’s Tourism New Brunswick (TNB) AOR account and the Two Nation Vacatio
 n account\, as well as social media content for Devour! The Beach.\n\nHer 
 daily tasks include copywriting\, engaging with social media fans\, mainta
 ining editorial calendars\, proof-reading and reviewing social media and w
 ebsite analytics to understand what content is performing well and what ne
 eds to be adjusted.\n\nLily is highly organized and can juggle multiple de
 adlines\, projects and requests. When she’s not working\, she enjoys ind
 ulging in her love of history\, travel and experimental cooking.
ATTACH;FMTTYPE=image/jpeg:https://devourfest.com/wp-content/uploads/2014/0
 9/T4G-Workshop-Grab.jpg
LOCATION:Al Whittle Theatre - Studio Z\, 450 Main St\, Wolfville\, NS\, B4P
  1E2\, Canada
GEO:45.091618;-64.362640
X-APPLE-STRUCTURED-LOCATION;VALUE=URI;X-ADDRESS=450 Main St\, Wolfville\, N
 S\, B4P 1E2\, Canada;X-APPLE-RADIUS=100;X-TITLE=Al Whittle Theatre - Studi
 o Z:geo:45.091618,-64.362640
END:VEVENT
BEGIN:VTIMEZONE
TZID:America/Halifax
X-LIC-LOCATION:America/Halifax
BEGIN:STANDARD
DTSTART:20141102T010000
TZOFFSETFROM:-0300
TZOFFSETTO:-0400
TZNAME:AST
END:STANDARD
END:VTIMEZONE
END:VCALENDAR