BEGIN:VCALENDAR
VERSION:2.0
PRODID:-//wp-events-plugin.com//7.2.3.1//EN
TZID:America/Halifax
X-WR-TIMEZONE:America/Halifax
BEGIN:VEVENT
UID:881@devourfest.com
DTSTART;TZID=America/Halifax:20231026T103000
DTEND;TZID=America/Halifax:20231026T110000
DTSTAMP:20231015T143630Z
URL:https://devourfest.com/program/inauguration-of-quebec-day-at-devour-th
 e-food-film-fest/
SUMMARY:Inauguration of Québec Day at Devour! The Food Film Fest
DESCRIPTION:Thanks to a new partnership with the Bureau du Québec dans les
  Provinces atlantiques\, a delegation of Québec’s best food producers\,
  chefs\, food experts\, and manufacturers will join us at this year’s fe
 stival. This event will kick off what we hope will be a fruitful trip fost
 ering inter-provincial\, food-industry connections.\n\nTicket Price: Free 
 admission\nOffered in French w/English translation\nSponsored by Bureau du
  Québec dans les Provinces atlantiques\n\nParticipating companies include
 : Épurée\, Huiles Olive Lahmar\, Produits Zinda\, Sauces Firebarns\, É
 pices Dion\, Crousset\, Kanel Spices\, Agrilait (Fromagerie St-Guillaume)\
 , Fromages CDA\, Fromages Latino\, Boutique Point G\, Furca\, Canabec\, Le
 s gars de la saucisse\, Les Canardises\, Industrie Gastronomique Cascajar
 es\, Atkins &amp\; Frères et Patisserie Michaud 
ATTACH;FMTTYPE=image/jpeg:https://devourfest.com/wp-content/uploads/2023/0
 8/Inauguration-of-Fete-du-Quebec-Day-at-Devour.jpg
CATEGORIES:EVENT
LOCATION:Devour! Studios\, 360 Main Street\, Wolfville\, NS\, B4P1C4\, Cana
 da
GEO:45.091942;-64.359045
X-APPLE-STRUCTURED-LOCATION;VALUE=URI;X-ADDRESS=360 Main Street\, Wolfville
 \, NS\, B4P1C4\, Canada;X-APPLE-RADIUS=100;X-TITLE=Devour! Studios:geo:45.
 091942,-64.359045
END:VEVENT
BEGIN:VTIMEZONE
TZID:America/Halifax
X-LIC-LOCATION:America/Halifax
BEGIN:DAYLIGHT
DTSTART:20230312T030000
TZOFFSETFROM:-0400
TZOFFSETTO:-0300
TZNAME:ADT
END:DAYLIGHT
END:VTIMEZONE
END:VCALENDAR