BEGIN:VCALENDAR
VERSION:2.0
PRODID:-//wp-events-plugin.com//7.2.3.1//EN
TZID:America/Halifax
X-WR-TIMEZONE:America/Halifax
BEGIN:VEVENT
UID:733@devourfest.com
DTSTART;TZID=America/Halifax:20211022T093000
DTEND;TZID=America/Halifax:20211022T110000
DTSTAMP:20211018T013609Z
URL:https://devourfest.com/program/indigenous-culinary-master-class-for-yo
 uth-w-joseph-shawana-in-person/
SUMMARY:Indigenous Culinary Master Class for Youth w/Joseph Shawana - IN P
 ERSON
DESCRIPTION:Rediscovering the Three Sisters – Odawa chef and founder of t
 he Indigenous Culinary of Associated Nations leads a hands-on culinary wor
 kshop for youth ages 12-18 to learn about our native foods\, how to prepar
 e them\, and the stories that inspired them.\n\nIncludes food samples\, re
 cipes\, shopping &amp\; prep list\, Recommended ages 12-18\; Indigenous Yo
 uth have free access.\n\nRecipes:\n- Three Sisters Soup\n- Pan-Seared Broo
 k Trout and a Three Sisters Succotash\n\nJoseph Shawana\nAcclaimed Chef Jo
 seph Shawana is Odawa\, part of the Three Fires Confederacy. Born and rais
 ed in Wikwemikong Unceded Indian Reserve in Ontario\, Joseph was brought u
 p knowing that food is life. Starting in the kitchen at the early age of 1
 3\, he learned from his mother\, and quickly fell in love with authentic I
 ndigenous cuisine. His classical French training and Aboriginal background
  combine to create authentic\, Native American cuisine executed with world
 -class culinary technique.  Currently\, he is a professor\, the chair of 
 Indigenous Culinary of Associated Nations\, and the Indigenous culinary ad
 visor at Ontario’s Centennial College. Joseph is also the force behind t
 he high-end Indigenous restaurant\, Kūkŭm Kitchen\, which won the “Bes
 t World Cuisine” award in 2019. He was named on the list of Top Ten Chef
 s of Ontario\, has received rave reviews in numerous publications—includ
 ing The New York Times and Food &amp\; Wine—and is a sought-after voice 
 on the emergence of Indigenous culinary around the globe. @joseph.shawana\
 n\nSponsored by Russell Hendrix\, Valley Regional Hospital Foundation\, Wi
 ndsor Home Furniture &amp\; Bosch Canada\n\nAttendees must show proof of d
 ouble vaccination in order to attend event(s). More tickets will be releas
 ed on October 4th depending upon COVID-19 protocols at that time. \n\nIn 
 keeping with Nova Scotia provincial health regulations and a desire to kee
 p all our guests safe and healthy\, Devour! will require proof of full Cov
 id-19 vaccine immunization along with a valid photo ID upon entry to all e
 vents with no exceptions. For all Devour! Covid Protocols\, please visit o
 ur website.\n\n&nbsp\;
ATTACH;FMTTYPE=image/jpeg:https://devourfest.com/wp-content/uploads/2021/0
 9/Joseph-Shawana.jpg
LOCATION:Devour! Studios\, 360 Main Street\, Wolfville\, NS\, B4P1C4\, Cana
 da
GEO:45.091942;-64.359045
X-APPLE-STRUCTURED-LOCATION;VALUE=URI;X-ADDRESS=360 Main Street\, Wolfville
 \, NS\, B4P1C4\, Canada;X-APPLE-RADIUS=100;X-TITLE=Devour! Studios:geo:45.
 091942,-64.359045
END:VEVENT
BEGIN:VTIMEZONE
TZID:America/Halifax
X-LIC-LOCATION:America/Halifax
BEGIN:DAYLIGHT
DTSTART:20210314T030000
TZOFFSETFROM:-0400
TZOFFSETTO:-0300
TZNAME:ADT
END:DAYLIGHT
END:VTIMEZONE
END:VCALENDAR