BEGIN:VCALENDAR
VERSION:2.0
PRODID:-//wp-events-plugin.com//7.2.3.1//EN
TZID:America/Halifax
X-WR-TIMEZONE:America/Halifax
BEGIN:VEVENT
UID:734@devourfest.com
DTSTART;TZID=America/Halifax:20211022T093000
DTEND;TZID=America/Halifax:20211022T110000
DTSTAMP:20210923T124059Z
URL:https://devourfest.com/program/indigenous-culinary-master-class-for-yo
 uth-w-joseph-shawana-online/
SUMMARY:Indigenous Culinary Master Class for Youth w/Joseph Shawana - ONLI
 NE
DESCRIPTION:Rediscovering the Three Sisters – Odawa chef and founder of t
 he Indigenous Culinary of Associated Nations leads a hands-on culinary wor
 kshop for youth ages 12-18 to learn about our native foods\, how to prepar
 e them\, and the stories that inspired them.\n\nIncludes recipes and shopp
 ing &amp\; prep list\, Recommended ages 10-17\; Indigenous Youth have free
  access.\n\nRecipes:\n- Three Sisters Soup\n- Pan-Seared Brook Trout and a
  Three Sisters Succotash\n\nJoseph Shawana\nAcclaimed Chef Joseph Shawana 
 is Odawa\, part of the Three Fires Confederacy. Born and raised in Wikwemi
 kong Unceded Indian Reserve in Ontario\, Joseph was brought up knowing tha
 t food is life. Starting in the kitchen at the early age of 13\, he learne
 d from his mother\, and quickly fell in love with authentic Indigenous cui
 sine. His classical French training and Aboriginal background combine to c
 reate authentic\, Native American cuisine executed with world-class culina
 ry technique.  Currently\, he is a professor\, the chair of Indigenous Cu
 linary of Associated Nations\, and the Indigenous culinary advisor at Onta
 rio’s Centennial College. Joseph is also the force behind the high-end I
 ndigenous restaurant\, Kūkŭm Kitchen\, which won the “Best World Cuisi
 ne” award in 2019. He was named on the list of Top Ten Chefs of Ontario\
 , has received rave reviews in numerous publications—including The New Y
 ork Times and Food &amp\; Wine—and is a sought-after voice on the emerge
 nce of Indigenous culinary around the globe. @joseph.shawana\n\nSponsored 
 by Russell Hendrix\, Valley Regional Hospital Foundation\, Windsor Home Fu
 rniture &amp\; Bosch Canada
ATTACH;FMTTYPE=image/jpeg:https://devourfest.com/wp-content/uploads/2021/0
 9/Joseph-Shawana.jpg
LOCATION:Online\, Online\,  \, Online\, Online\, Online\, Canada
GEO:43.808785;-79.334046
X-APPLE-STRUCTURED-LOCATION;VALUE=URI;X-ADDRESS=Online\,  \, Online\, Onlin
 e\, Online\, Canada;X-APPLE-RADIUS=100;X-TITLE=Online:geo:43.808785,-79.33
 4046
END:VEVENT
BEGIN:VTIMEZONE
TZID:America/Halifax
X-LIC-LOCATION:America/Halifax
BEGIN:DAYLIGHT
DTSTART:20210314T030000
TZOFFSETFROM:-0400
TZOFFSETTO:-0300
TZNAME:ADT
END:DAYLIGHT
END:VTIMEZONE
END:VCALENDAR