BEGIN:VCALENDAR
VERSION:2.0
PRODID:-//wp-events-plugin.com//7.2.3.1//EN
TZID:America/Halifax
X-WR-TIMEZONE:America/Halifax
BEGIN:VEVENT
UID:782@devourfest.com
DTSTART;TZID=America/Halifax:20211022T113000
DTEND;TZID=America/Halifax:20211022T130000
DTSTAMP:20210923T124203Z
URL:https://devourfest.com/program/indigenous-culinary-master-class-for-yo
 uth-with-jenni-lessard-online/
SUMMARY:Indigenous Culinary Master Class for Youth with Jenni Lessard - ONL
 INE
DESCRIPTION:Bison and Berries – Métis Chef Jenni Lessard of Saskatchewan
  leads a hands-on demonstration of dishes for young people\, reflecting he
 r Métis background and the foods of the Canadian Prairies. This class for
  young people is about learning how to make the dishes\, but also how Chef
  Jenni carries on the food traditions of her grandmother and aunt.\n\nDish
 es: Bullet Soup with Feast Berries and Baked Bannock with Spruce Tip But
 ter\n\nTicket Price: $10.00 online (includes recipes and shopping list)\; 
 free to Indigenous youth.\nRecommended Ages: 10-17\nSponsored by Russell H
 endrix\, Valley Regional Hospital Foundation\, Windsor Home Furniture &amp
 \; Bosch Canada\n\nJenni Lessard \nJenni Lessard is a Métis chef\, recip
 e developer\, and Indigenous Culinary Consultant for Wanuskewin Heritage P
 ark. She grew up in the boreal forest of Northern Saskatchewan\, with no T
 V reception. She filled her time picking berries\, rosehips\, and lake min
 t\, then used them in her cooking. Jenni’s first restaurant\, at age 14\
 , was Flight Delight\, a burger truck at the La Ronge Municipal Airport. I
 n 2005\, with no formal culinary training\, Jenni opened New Ground Cafe i
 n the farming community of Birch Hills\, SK. Live music events\, art\, and
  Jenni’s unique blend of storytelling and cooking garnered a province-wi
 de client base\, when she moved to Saskatoon to focus on catering. Jenni i
 s Secretary of the Indigenous Culinary of Associated Nations\, Vice Presid
 ent of Métis Local #126\, and sits on the steering committee of Slow Food
  Saskatoon. She makes her home in the Qu’Appelle Valley on Treaty Four T
 erritory. @chefjenni\n\n&nbsp\;
ATTACH;FMTTYPE=image/jpeg:https://devourfest.com/wp-content/uploads/2021/0
 9/Jenni-Lessard.jpeg
LOCATION:Devour! Studios\, 360 Main Street\, Wolfville\, NS\, B4P1C4\, Cana
 da
GEO:45.091942;-64.359045
X-APPLE-STRUCTURED-LOCATION;VALUE=URI;X-ADDRESS=360 Main Street\, Wolfville
 \, NS\, B4P1C4\, Canada;X-APPLE-RADIUS=100;X-TITLE=Devour! Studios:geo:45.
 091942,-64.359045
END:VEVENT
BEGIN:VTIMEZONE
TZID:America/Halifax
X-LIC-LOCATION:America/Halifax
BEGIN:DAYLIGHT
DTSTART:20210314T030000
TZOFFSETFROM:-0400
TZOFFSETTO:-0300
TZNAME:ADT
END:DAYLIGHT
END:VTIMEZONE
END:VCALENDAR