BEGIN:VCALENDAR
VERSION:2.0
PRODID:-//wp-events-plugin.com//7.2.3.1//EN
TZID:America/Halifax
X-WR-TIMEZONE:America/Halifax
BEGIN:VEVENT
UID:749@devourfest.com
DTSTART;TZID=America/Halifax:20211023T110000
DTEND;TZID=America/Halifax:20211023T120000
DTSTAMP:20211019T184721Z
URL:https://devourfest.com/program/indigenous-culinary-workshop-indigenous
 -food-of-the-us-southwest-w-brian-yazzie-in-person/
SUMMARY:Indigenous Culinary Workshop- Indigenous Food of the US Southwest 
 w/Brian Yazzie - IN PERSON
DESCRIPTION:How can non-Native peoples engage with Indigenous cuisines in w
 ays that are rooted in reciprocity and respect? How can people connect wit
 h and help to revitalize Native ingredients and foodways? Brian Yazzie\, a
 lso known as Yazzie the Chef (Diné/Navajo)\, originally  from Dennehotso
 \, Arizona will lead this culinary workshop with tastings of foods steeped
  in Navajo foodways.\n\nTicket Price: $30.00 in-person (includes food samp
 les) \n\nSponsored by: Russell Hendrix\, Embassy of the US - Ottawa\, Win
 dsor Home Furniture &amp\; Bosch Canada\n\nRecipe: Diné Blue Cornush (Ced
 ar-infused) w/ Sumac-Prickly Pear Syrup\, Puff Amaranth\, &amp\; Spiced To
 asted Pepitas\n\nBrian Yazzie\n\nBrian Yazzie aka Yazzie The Chef (Diné/N
 avajo) is a chef and food justice activist from Dennehotso\, Arizona\, and
  based out of Saint Paul\, MN. He is the founder of Intertribal Foodways c
 atering company\, a YouTube creator under Yazzie The Chef TV\, a delegate 
 of Slow Food Turtle Island Association\, and a member at I-Collective: a c
 ollective of cooks\, chefs\, seed keepers\, farmers\, foragers\, and schol
 ars focused on bringing awareness to the cultural appropriations of Indige
 nous foods of the Americas. His TV and media appearances include Independe
 nt Lens\, Alter-NATIVE\, and Taste the Nation with Padma Lakshmi. Yazzie w
 as recently appointed Executive Chef at Gatherings Café\, and is currentl
 y working with other chefs and volunteers to deliver support to Native Eld
 er communities within the Twin Cities. Yazzie is also part of the Dennehot
 so Families Covid-19 Relief Project\, which is focused on providing long-t
 erm supplies for families and elders in his hometown. @yazzie_thechef\n\nI
 n keeping with Nova Scotia provincial health regulations and a desire to k
 eep all our guests safe and healthy\, Devour! will require proof of full C
 ovid-19 vaccine immunization along with a valid photo ID upon entry to all
  events with no exceptions. For all Devour! Covid Protocols\, please visit
  our website.
ATTACH;FMTTYPE=image/jpeg:https://devourfest.com/wp-content/uploads/2021/0
 9/Brian-Yazzie-resize.jpg
LOCATION:Devour! Studios\, 360 Main Street\, Wolfville\, NS\, B4P1C4\, Cana
 da
GEO:45.091942;-64.359045
X-APPLE-STRUCTURED-LOCATION;VALUE=URI;X-ADDRESS=360 Main Street\, Wolfville
 \, NS\, B4P1C4\, Canada;X-APPLE-RADIUS=100;X-TITLE=Devour! Studios:geo:45.
 091942,-64.359045
END:VEVENT
BEGIN:VTIMEZONE
TZID:America/Halifax
X-LIC-LOCATION:America/Halifax
BEGIN:DAYLIGHT
DTSTART:20210314T030000
TZOFFSETFROM:-0400
TZOFFSETTO:-0300
TZNAME:ADT
END:DAYLIGHT
END:VTIMEZONE
END:VCALENDAR