BEGIN:VCALENDAR
VERSION:2.0
PRODID:-//wp-events-plugin.com//7.2.3.1//EN
TZID:America/Halifax
X-WR-TIMEZONE:America/Halifax
BEGIN:VEVENT
UID:249@devourfest.com
DTSTART;TZID=America/Halifax:20161103T180000
DTEND;TZID=America/Halifax:20161103T193000
DTSTAMP:20161027T173540Z
URL:https://devourfest.com/program/industry-happy-hour-meet-the-founding-p
 artner-slow-food-nova-scotia/
SUMMARY:Industry Happy Hour: Meet the Founding Partner – Slow Food Nova S
 cotia
DESCRIPTION:Join us in our most hospitable of hours at the Festival Lounge 
 over three days of the festival–from Thursday to Saturday\, we’ll rais
 e a glass\, enjoy some fresh Nova Scotia oysters courtesy of our partners 
 at Sober Island Oysters and mingle with an interesting crew night after ni
 ght. Restricted to 19 years of age or older. Admittance with a badge or fe
 stival ticket.  \n\n&nbsp\;
ATTACH;FMTTYPE=image/jpeg:https://devourfest.com/wp-content/uploads/2016/0
 9/IMG_3111-scaled.jpeg
LOCATION:Wilsons Home Heating Pavilion\, Troy Restaurant\, 12 Elm Ave.\, Wo
 lfville\, NS\, B4P 2S2\, Kings County\, Canada
GEO:45.092072;-64.363983
X-APPLE-STRUCTURED-LOCATION;VALUE=URI;X-ADDRESS=12 Elm Ave.\, Wolfville\, N
 S\, B4P 2S2\, Kings County\, Canada;X-APPLE-RADIUS=100;X-TITLE=Wilsons Hom
 e Heating Pavilion\, Troy Restaurant:geo:45.092072,-64.363983
END:VEVENT
BEGIN:VTIMEZONE
TZID:America/Halifax
X-LIC-LOCATION:America/Halifax
BEGIN:DAYLIGHT
DTSTART:20160313T030000
TZOFFSETFROM:-0400
TZOFFSETTO:-0300
TZNAME:ADT
END:DAYLIGHT
END:VTIMEZONE
END:VCALENDAR