BEGIN:VCALENDAR
VERSION:2.0
PRODID:-//wp-events-plugin.com//7.2.3.1//EN
TZID:America/Halifax
X-WR-TIMEZONE:America/Halifax
BEGIN:VEVENT
UID:258@devourfest.com
DTSTART;TZID=America/Halifax:20161104T110000
DTEND;TZID=America/Halifax:20161104T123000
DTSTAMP:20161027T173642Z
URL:https://devourfest.com/program/innovation-in-culinary-tourism-summit/
SUMMARY:Innovation in Culinary Tourism Summit
DESCRIPTION:Presented by the Valley Regional Enterprise Network www.valleyr
 en.ca \n\nWhat is the importance of culinary tourism to a region? How doe
 s it bring both economic prosperity and pride in community?  How can we i
 nnovate? Our presenters bring expertise and ideas for innovation from coas
 t-to-coast to this forum open to all. Find inspiration and idea generation
  for your business with our panel of visiting speakers\, all leaders in th
 eir respective regions.\n\nConfirmed Participants: \n\nAllison Kouzovnikov
  – President\, Shorefast Foundation\, NS\n\nArlene Stein – Founder\, T
 erroir Symposium\, ON via Berlin\n\nRebecca Mackenzie – Executive Direct
 or\, Culinary Tourism Alliance\, ON\n\nIngrid Jarrett –  General Manage
 r\, Watermark Resort\, Osoyoos\, BC\n\nKelley Glazer – Executive Directo
 r – Destination Osoyoos\, BC\n\nJocelyn Lightfoot – Co-Owner\, Lightfo
 ot &amp\; Wolfville Winery\, NS\n\nModerator – Mary Tulle\, Destination 
 Cape Breton\, NS\n\n&nbsp\;\n\nNO TICKETS ARE NECESSARY FOR THIS EVENT\n\n
 Please Send an email to ekonrath@valleyren.ca to RSVP for a spot
LOCATION:Wilsons Home Heating Pavilion\, Troy Restaurant\, 12 Elm Ave.\, Wo
 lfville\, NS\, B4P 2S2\, Kings County\, Canada
GEO:45.092072;-64.363983
X-APPLE-STRUCTURED-LOCATION;VALUE=URI;X-ADDRESS=12 Elm Ave.\, Wolfville\, N
 S\, B4P 2S2\, Kings County\, Canada;X-APPLE-RADIUS=100;X-TITLE=Wilsons Hom
 e Heating Pavilion\, Troy Restaurant:geo:45.092072,-64.363983
END:VEVENT
BEGIN:VTIMEZONE
TZID:America/Halifax
X-LIC-LOCATION:America/Halifax
BEGIN:DAYLIGHT
DTSTART:20160313T030000
TZOFFSETFROM:-0400
TZOFFSETTO:-0300
TZNAME:ADT
END:DAYLIGHT
END:VTIMEZONE
END:VCALENDAR