BEGIN:VCALENDAR
VERSION:2.0
PRODID:-//wp-events-plugin.com//7.2.3.1//EN
TZID:America/Halifax
X-WR-TIMEZONE:America/Halifax
BEGIN:VEVENT
UID:476@devourfest.com
DTSTART;TZID=America/Halifax:20181026T110000
DTEND;TZID=America/Halifax:20181026T123000
DTSTAMP:20180912T164915Z
URL:https://devourfest.com/program/intro-to-filmmaking-w-scott-simpson/
SUMMARY:Intro to Filmmaking w/Scott Simpson
DESCRIPTION:Intro to Filmmaking: This workshop introduces participants to 
 the elements needed to make an independent film. Participants will walk th
 rough the filmmaking process from beginning to end. In addition they will 
 receive a better understanding of the various jobs on a film set and how t
 hey work in conjunction with each other. A special focus will be made on t
 he tools and resources that are available for making films in Nova Scotia.
 \n$30.00 per guest\nSponsored by Telefilm Canada &amp\; AFCOOP\n\nScott Si
 mpson\n\nWhether it’s in film or television\, drama or documentary\, Sco
 tt Simpson brings a cinematographer’s eye\, a writer’s flair for story
 \, and a producer’s organizational skills to every project. Over the pas
 t 20 years\, he has amassed a list of credits that include director\, prod
 ucer\, writer\, editor\, camera operator\, and more. Every day brings a ne
 w challenge. And he wouldn’t have it any other way!\n\nScott has led the
  creation of over 40 hours of primetime television for Discovery\, Smithso
 nian\, National Geographic\, the History Channel\, and the National Film B
 oard of Canada. His dramatic film work and music videos have received reco
 gnition from industry press and award shows across the globe. And his comm
 ercial directing resume includes Ice Award (advertising) winners in multip
 le years.\n\nScott is also a teacher and mentor as well as a passionate ad
 vocate for arts and culture in his city and beyond. @scottsimpson17
ATTACH;FMTTYPE=image/jpeg:https://devourfest.com/wp-content/uploads/2018/0
 8/Filmmaking-Workshop-cropped.jpeg
LOCATION:Devour! Festival Lounge & Box Office\, 12 Elm Avenue\, Wolfville\,
  NS\, B4P 2S2\, Canada
GEO:45.092171;-64.364128
X-APPLE-STRUCTURED-LOCATION;VALUE=URI;X-ADDRESS=12 Elm Avenue\, Wolfville\,
  NS\, B4P 2S2\, Canada;X-APPLE-RADIUS=100;X-TITLE=Devour! Festival Lounge 
 & Box Office:geo:45.092171,-64.364128
END:VEVENT
BEGIN:VTIMEZONE
TZID:America/Halifax
X-LIC-LOCATION:America/Halifax
BEGIN:DAYLIGHT
DTSTART:20180311T030000
TZOFFSETFROM:-0400
TZOFFSETTO:-0300
TZNAME:ADT
END:DAYLIGHT
END:VTIMEZONE
END:VCALENDAR