BEGIN:VCALENDAR
VERSION:2.0
PRODID:-//wp-events-plugin.com//7.2.3.1//EN
TZID:America/Halifax
X-WR-TIMEZONE:America/Halifax
BEGIN:VEVENT
UID:261@devourfest.com
DTSTART;TZID=America/Halifax:20161104T123000
DTEND;TZID=America/Halifax:20161104T140000
DTSTAMP:20160918T142301Z
URL:https://devourfest.com/program/ladn-do-ceviche-wmonsieur-oyster/
SUMMARY:Ceviche's DNA w/Monsieur Oyster
DESCRIPTION:Ceviche’s DNA (L’ADN du ceviche)\n\nCeviche is more than ju
 st fish seasoned with citrus. It starts in the beautiful bays that caress 
 Peru’s shorelines\, takes a detour into the lives of those who fish thos
 e same waters\, and ends up on the plate of thousands of diners over gener
 ations. Director Orland Arrigada looks at one dish\, and comes up with a c
 ountry\, a culture\, and a depth of flavour that is thousands of years old
 .\n\nCanada\, 2016\, 85 minutes\n\nDirector Orlando Arriagada\n\nDistribut
 or Productions Pimiento Inc.\n\n\n\nMonsieur Oyster\n\nA true amateur is o
 ne who does it for the love of it all. Meet an amateur of the oyster.\n\nF
 rance\, 2015\, 9 minutes\n\nDirector Douglas Guillot\n\n
ATTACH;FMTTYPE=image/jpeg:https://devourfest.com/wp-content/uploads/2016/0
 9/LADN-du-Ceviche-1-scaled.jpg
LOCATION:Al Whittle Theatre - Studio Z\, 450 Main St\, Wolfville\, NS\, B4P
  1E2\, Canada
GEO:45.091618;-64.362640
X-APPLE-STRUCTURED-LOCATION;VALUE=URI;X-ADDRESS=450 Main St\, Wolfville\, N
 S\, B4P 1E2\, Canada;X-APPLE-RADIUS=100;X-TITLE=Al Whittle Theatre - Studi
 o Z:geo:45.091618,-64.362640
END:VEVENT
BEGIN:VTIMEZONE
TZID:America/Halifax
X-LIC-LOCATION:America/Halifax
BEGIN:DAYLIGHT
DTSTART:20160313T030000
TZOFFSETFROM:-0400
TZOFFSETTO:-0300
TZNAME:ADT
END:DAYLIGHT
END:VTIMEZONE
END:VCALENDAR