BEGIN:VCALENDAR
VERSION:2.0
PRODID:-//wp-events-plugin.com//7.2.3.1//EN
TZID:America/Halifax
X-WR-TIMEZONE:America/Halifax
BEGIN:VEVENT
UID:411@devourfest.com
DTSTART;TZID=America/Halifax:20171029T130000
DTEND;TZID=America/Halifax:20171029T150000
DTSTAMP:20170909T135934Z
URL:https://devourfest.com/program/late-fall-mushroom-hunt-with-brendon-zi
 ssou/
SUMMARY:Late Fall Mushroom Hunt with Brendon Zissou
DESCRIPTION:Join Nova Scotia über mycologist Brendon Zissou on a two-hour 
 walk through the local forest on the hunt for late fall mushrooms. \n\n
ATTACH;FMTTYPE=image/jpeg:https://devourfest.com/wp-content/uploads/2017/0
 9/Late-Fall-Mushroom-Hunt.jpeg
LOCATION:Linden Avenue & Main Street\, Linden Avenue &amp\; Main Street\, W
 olfville\, NS\, Canada
GEO:45.091400;-64.362785
X-APPLE-STRUCTURED-LOCATION;VALUE=URI;X-ADDRESS=Linden Avenue & Main Street
 \, Wolfville\, NS\, Canada;X-APPLE-RADIUS=100;X-TITLE=Linden Avenue & Main
  Street:geo:45.091400,-64.362785
END:VEVENT
BEGIN:VTIMEZONE
TZID:America/Halifax
X-LIC-LOCATION:America/Halifax
BEGIN:DAYLIGHT
DTSTART:20170312T030000
TZOFFSETFROM:-0400
TZOFFSETTO:-0300
TZNAME:ADT
END:DAYLIGHT
END:VTIMEZONE
END:VCALENDAR