BEGIN:VCALENDAR
VERSION:2.0
PRODID:-//wp-events-plugin.com//7.2.3.1//EN
TZID:America/Halifax
X-WR-TIMEZONE:America/Halifax
BEGIN:VEVENT
UID:961@devourfest.com
DTSTART;TZID=America/Halifax:20241026T093000
DTEND;TZID=America/Halifax:20241026T123000
DTSTAMP:20241016T123617Z
URL:https://devourfest.com/program/le-tour-de-lacadie-bike-ride-2/
SUMMARY:Le Tour de l'Acadie Bike Ride
DESCRIPTION:Our leading health\, wellness\, and sporting event returns! Joi
 n fellow cycling enthusiasts as they take part in this three-hour bike rid
 e around the Annapolis Valley—enjoying fall foliage\, the beauty of our 
 landscape\, a bit of wine\, and a guided pass at key Acadian landmarks: Gr
 and Pré National Historic Site\, the Landscape of Grand Pré Look-Off\, a
 nd more. The Tour will culminate with a delicious global dish at the New C
 anadians Street Food Celebration.\n\nTicket Price: $25.00\, $5.00 youth\, 
 includes refreshment breaks \nA limited number of bike loans are availabl
 e\, please contact the Wolfville Library or Banks Bikes\nSponsored by Supp
 ort 4 Culture\, Office of Acadian Affairs and Francophonie\, Landscape of 
 Grand Pré\, Grand Pré National Historic Site\, Lightfoot &amp\; Wolfvill
 e Community Partners: Cycling NS\, We're Outside\, and Banks Bikes\n\n\nTh
 is year's route:\n
ATTACH;FMTTYPE=image/jpeg:https://devourfest.com/wp-content/uploads/2024/0
 9/Le-Tour-de-l_Acadie-Bike-Ride.jpeg
CATEGORIES:EVENT
LOCATION:Wolfville Waterfront Park\, Wolfville Waterfront Park\, Wolfville\
 , NS\, Canada
GEO:45.092816;-64.358775
X-APPLE-STRUCTURED-LOCATION;VALUE=URI;X-ADDRESS=Wolfville Waterfront Park\,
  Wolfville\, NS\, Canada;X-APPLE-RADIUS=100;X-TITLE=Wolfville Waterfront P
 ark:geo:45.092816,-64.358775
END:VEVENT
BEGIN:VTIMEZONE
TZID:America/Halifax
X-LIC-LOCATION:America/Halifax
BEGIN:DAYLIGHT
DTSTART:20240310T030000
TZOFFSETFROM:-0400
TZOFFSETTO:-0300
TZNAME:ADT
END:DAYLIGHT
END:VTIMEZONE
END:VCALENDAR