BEGIN:VCALENDAR
VERSION:2.0
PRODID:-//wp-events-plugin.com//7.2.3.1//EN
TZID:America/Halifax
X-WR-TIMEZONE:America/Halifax
BEGIN:VEVENT
UID:1038@devourfest.com
DTSTART;TZID=America/Halifax:20260725T130000
DTEND;TZID=America/Halifax:20260725T190000
DTSTAMP:20260403T172039Z
URL:https://devourfest.com/program/le-tour-de-lacadie-bike-ride-summer-edi
 tion/
SUMMARY:Le Tour de l’Acadie Bike Ride: Summer Edition
DESCRIPTION:\n\nRide begins and ends at Devour! Studios at 360 Main Street\
 , registration at 12:00 pm\, Ride 1:00 p.m. - 5:00 p.m.\, Open House 5:00 
 p.m. - 7:00 p.m.\n\nWe’re taking our popular fall festival event and mov
 ing it to the height of summer! Join us for the summer edition of Le Tour 
 de l’Acadie Bike Ride\, an exciting cycling event that promises an unfor
 gettable adventure! This engaging 4-hour ride through the breathtaking Ann
 apolis Valley takes you on a scenic journey\, stopping at wineries\, farms
 \, and key historical locations\, including the Grand Pré National Histor
 ic Site and the Acadian Cross. Perfect for families\, friends\, or corpora
 te teams\, this leisurely ride celebrates health\, wellness\, and communit
 y spirit under stunning summer skies. Conclude your adventure at an Open H
 ouse at Devour! Studios\, complete with a delicious pasta bar\, as we cele
 brate Mud Creek Days in the Town of Wolfville. Don’t miss this opportuni
 ty to explore our rich agricultural heritage while promoting a healthy lif
 estyle!\n\nTicket Price: $49.50 adult\, $20.00 youth\, includes refreshmen
 t breaks along the way\, and a plate of pasta upon return \n\nThis event 
 is proudly supported by our All-Events Visionary: Engel &amp\; Völkers.\n
 \nBike Route &amp\; Stops coming soon!\n\n\n\n
ATTACH;FMTTYPE=image/jpeg:https://devourfest.com/wp-content/uploads/2026/0
 3/Le-Tour-de-lAcadie.png
CATEGORIES:EVENT
LOCATION:Devour! Studios\, 360 Main Street\, Wolfville\, Nova Scotia\, B4P1
 C4\, Canada
GEO:45.091942;-64.359045
X-APPLE-STRUCTURED-LOCATION;VALUE=URI;X-ADDRESS=360 Main Street\, Wolfville
 \, Nova Scotia\, B4P1C4\, Canada;X-APPLE-RADIUS=100;X-TITLE=Devour! Studio
 s:geo:45.091942,-64.359045
END:VEVENT
BEGIN:VTIMEZONE
TZID:America/Halifax
X-LIC-LOCATION:America/Halifax
BEGIN:DAYLIGHT
DTSTART:20260308T030000
TZOFFSETFROM:-0400
TZOFFSETTO:-0300
TZNAME:ADT
END:DAYLIGHT
END:VTIMEZONE
END:VCALENDAR