BEGIN:VCALENDAR
VERSION:2.0
PRODID:-//wp-events-plugin.com//7.2.3.1//EN
TZID:America/Halifax
X-WR-TIMEZONE:America/Halifax
BEGIN:VEVENT
UID:863@devourfest.com
DTSTART;TZID=America/Halifax:20221030T170000
DTEND;TZID=America/Halifax:20221030T193000
DTSTAMP:20221001T193351Z
URL:https://devourfest.com/program/lemon-and-poppyseed-cake-w-hope-you-fai
 l/
SUMMARY:Lemon and Poppyseed Cake w/Hope You Fail
DESCRIPTION:In a small town located on the island of Mallorca\, Anna and Ma
 rina\, two sisters who were separated when they were teenagers\, meet agai
 n to sell a bakery they’ve inherited from a mysterious woman. The two si
 sters have led very different lives: Anna has barely left the island and i
 s unhappily married\, while Marina travels the world as a doctor for an NG
 O. As the sisters try to uncover the secrets hidden behind their enigmatic
  benefactor and her property\, they are forced to confront old family disp
 utes and make up for lost time.\n\nSpain/Luxembourg\, 2021\, 122 minutes\n
 Director: Benito Zambrano\nDistributor: Filmax\n\n\n\nHope You Fail\n\nWhe
 n Rich Myers’ recently rebooted Leeds dessert shop\, Get Baked\, gets bu
 sted by Trading Standards for the use of illegal American sprinkles\, it
 ’s an opportunity for him to leverage his loyal social media following a
 nd make a grab for viral fame.\n\nUK\, 2022\, 20 minutes\nDirector: Alison
  Grasso\n\nSponsored by EOS Natural Foods
ATTACH;FMTTYPE=image/jpeg:https://devourfest.com/wp-content/uploads/2022/0
 9/Lemon-and-Poppyseed-Cake-scaled.jpg
CATEGORIES:FILM
LOCATION:Al Whittle Theatre\, 450 Main St\, Wolfville\, NS\, B4P 1E2\, Cana
 da
GEO:45.0915;-64.362765
X-APPLE-STRUCTURED-LOCATION;VALUE=URI;X-ADDRESS=450 Main St\, Wolfville\, N
 S\, B4P 1E2\, Canada;X-APPLE-RADIUS=100;X-TITLE=Al Whittle Theatre:geo:45.
 0915,-64.362765
END:VEVENT
BEGIN:VTIMEZONE
TZID:America/Halifax
X-LIC-LOCATION:America/Halifax
BEGIN:DAYLIGHT
DTSTART:20220313T030000
TZOFFSETFROM:-0400
TZOFFSETTO:-0300
TZNAME:ADT
END:DAYLIGHT
END:VTIMEZONE
END:VCALENDAR