BEGIN:VCALENDAR
VERSION:2.0
PRODID:-//wp-events-plugin.com//7.2.3.1//EN
TZID:America/Halifax
X-WR-TIMEZONE:America/Halifax
BEGIN:VEVENT
UID:958@devourfest.com
DTSTART;TZID=America/Halifax:20241025T170000
DTEND;TZID=America/Halifax:20241025T190000
DTSTAMP:20240905T134332Z
URL:https://devourfest.com/program/mascarpone-the-rainbow-cake-w-pudding-c
 homeur-a-sugar-shack-story/
SUMMARY:Mascarpone - The Rainbow Cake w/Pudding Chomeur: A Sugar Shack Stor
 y
DESCRIPTION:After being unexpectedly dumped by his husband\, successful pas
 try chef Antonio’s life is turned upside down. Forced to find a new home
  and job\, he embarks on a journey of self-discovery\, learning the import
 ance of independence and finding a new purpose in life along the way.\nIta
 ly\, 2024\, 105 minutes\nDirectors: Matteo Pilati\, Alessandro Guida\nDist
 ributor: Dark Star Pictures\n\nPudding Chômeur: A Sugar Shack Story\n\nOn
  the day of her father’s funeral\, a daughter attempts to recreate his i
 conic dessert to honour his memory.\nCanada\, 2024\, 11 minutes\nDirector:
  Frank Tremblay 
ATTACH;FMTTYPE=image/jpeg:https://devourfest.com/wp-content/uploads/2024/0
 9/Mascarpone-the-Rainbow-Cake-e1725292261415.jpeg
CATEGORIES:FILM
LOCATION:Al Whittle Theatre\, 450 Main St\, Wolfville\, NS\, B4P 1E2\, Cana
 da
GEO:45.0915;-64.362765
X-APPLE-STRUCTURED-LOCATION;VALUE=URI;X-ADDRESS=450 Main St\, Wolfville\, N
 S\, B4P 1E2\, Canada;X-APPLE-RADIUS=100;X-TITLE=Al Whittle Theatre:geo:45.
 0915,-64.362765
END:VEVENT
BEGIN:VTIMEZONE
TZID:America/Halifax
X-LIC-LOCATION:America/Halifax
BEGIN:DAYLIGHT
DTSTART:20240310T030000
TZOFFSETFROM:-0400
TZOFFSETTO:-0300
TZNAME:ADT
END:DAYLIGHT
END:VTIMEZONE
END:VCALENDAR