BEGIN:VCALENDAR
VERSION:2.0
PRODID:-//wp-events-plugin.com//7.2.3.1//EN
TZID:America/Halifax
X-WR-TIMEZONE:America/Halifax
BEGIN:VEVENT
UID:950@devourfest.com
DTSTART;TZID=America/Halifax:20241025T100000
DTEND;TZID=America/Halifax:20241025T133000
DTSTAMP:20241022T131748Z
URL:https://devourfest.com/program/meet-your-farmer-tour-presented-by-the-
 nova-scotia-federation-of-agriculture-family-edition/
SUMMARY:Meet Your Farmer Tour presented by the Nova Scotia Federation  of A
 griculture - Family Edition
DESCRIPTION:So popular\, we’re back with two tours this time around! Expe
 rience the best of Annapolis Valley farming with a family-friendly guided 
 tour of three innovative farms that are leading the way in sustainable agr
 iculture. Learn more about cutting-edge farming practices\, see how these 
 farms are revolutionizing the industry\, and get a first-hand look at wher
 e your food comes from. \n\nThe tour will end with a delicious lunch usin
 g the bountiful harvest from the farms visited. Don’t miss this unique o
 pportunity to connect with the land\, support local farmers\, and indulge 
 in a farm-to-table dining experience like no other. \n\nTicket Price: $50
 .00 adult\, $10.00 youth\, includes transportation\nThe bus will leave fro
 m Devour! Studios (360 Main Street\, Wolfville) at 10:00 a.m.\nSponsored b
 y the Nova Scotia Federation of Agriculture\nFarms &amp\; Route:\n\n\n 	Pi
 ckup at Devour! Studios\n 	Learn about NS Apple industry and have a Flight
  of Apples on the bus with Emily Lutz of Nova Scotia Fruit Growers Associa
 tion\n 	Visit Vermeulen Farms and see their team in action.\n 	Visit Melvi
 n Farms and see their cauliflower fields\, harvesting equipment and more\n
  	View a Nova Scotia Living Labs site – Land Swap partnership between la
 ndowner Allan Melivn and Cattle producer Clay Ansems. Jessica Gilice\, Liv
 ing Labs Knowledge &amp\; Technology Transfer Coordinator is riding along 
 with us and will talk about the program.\n 	Visit Lightfoot &amp\; Wolfvil
 le farming (exact topic TBD based on activities happening that day)\n 	Dro
 pped back to Devour! Studios\n\n
ATTACH;FMTTYPE=image/jpeg:https://devourfest.com/wp-content/uploads/2024/0
 9/Meet-Your-Farmer-Tour.jpeg
CATEGORIES:EVENT
LOCATION:Devour! Studios\, 360 Main Street\, Wolfville\, Nova Scotia\, B4P1
 C4\, Canada
GEO:45.091942;-64.359045
X-APPLE-STRUCTURED-LOCATION;VALUE=URI;X-ADDRESS=360 Main Street\, Wolfville
 \, Nova Scotia\, B4P1C4\, Canada;X-APPLE-RADIUS=100;X-TITLE=Devour! Studio
 s:geo:45.091942,-64.359045
END:VEVENT
BEGIN:VTIMEZONE
TZID:America/Halifax
X-LIC-LOCATION:America/Halifax
BEGIN:DAYLIGHT
DTSTART:20240310T030000
TZOFFSETFROM:-0400
TZOFFSETTO:-0300
TZNAME:ADT
END:DAYLIGHT
END:VTIMEZONE
END:VCALENDAR