BEGIN:VCALENDAR
VERSION:2.0
PRODID:-//wp-events-plugin.com//7.2.3.1//EN
TZID:America/Halifax
X-WR-TIMEZONE:America/Halifax
BEGIN:VEVENT
UID:953@devourfest.com
DTSTART;TZID=America/Halifax:20241025T123000
DTEND;TZID=America/Halifax:20241025T160000
DTSTAMP:20241022T131652Z
URL:https://devourfest.com/program/meet-your-farmer-tour-presented-by-the-
 nova-scotia-federation-of-agriculture-regular-edition/
SUMMARY:Meet Your Farmer Tour presented by the Nova Scotia Federation of Ag
 riculture - Regular Edition
DESCRIPTION:So popular\, we’re back with two tours this time around! Expe
 rience the best of Annapolis Valley farming with a guided tour of three in
 novative farms that are leading the way in sustainable agriculture. Learn 
 more about cutting-edge farming practices\, see how these farms are revolu
 tionizing the industry\, and get a first-hand look at where your food come
 s from. \n\nThe tour will begin with a delicious lunch using the bountifu
 l harvest from the farms you are about to visit. Don’t miss this unique 
 opportunity to connect with the land\, support local farmers\, and indulge
  in a farm-to-table dining experience like no other. \n\nTicket Price: $5
 0.00 adult\, $10.00 youth\, includes transportation\nThe bus will leave fr
 om Devour! Studios (360 Main Street\, Wolfville) at 12:30 p.m.\nSponsored 
 by the Nova Scotia Federation of Agriculture\nFarms &amp\; Route:\n\n\n 	\
 n\n 	Picked up at Devour! Studios\n 	Visit Lightfoot &amp\; Wolfville farm
 ing (exact topic TBD based on activities happening that day)\n 	Learn abou
 t NS Apple industry and have a Flight of Apples on the bus with Emily Lutz
  of NSFGA\n 	View a Nova Scotia Living Labs site – Land Swap partnership
  between landowner Allan Melivn and Cattle producer Clay Ansems. Jessica G
 ilice\, Living Labs Knowledge &amp\; Technology Transfer Coordinator is ri
 ding along with us and will talk about the program.\n 	Visit Melvin Farms 
 and see their cauliflower fields\, harvesting equipment and more\n 	Visit 
 Vermeulen Farms and see their team in action.\n 	Dropped off at Devour! St
 udios\n\n\n
ATTACH;FMTTYPE=image/jpeg:https://devourfest.com/wp-content/uploads/2024/0
 9/Meet-Your-Farmer-Tour.jpeg
CATEGORIES:EVENT
LOCATION:Devour! Studios\, 360 Main Street\, Wolfville\, Nova Scotia\, B4P1
 C4\, Canada
GEO:45.091942;-64.359045
X-APPLE-STRUCTURED-LOCATION;VALUE=URI;X-ADDRESS=360 Main Street\, Wolfville
 \, Nova Scotia\, B4P1C4\, Canada;X-APPLE-RADIUS=100;X-TITLE=Devour! Studio
 s:geo:45.091942,-64.359045
END:VEVENT
BEGIN:VTIMEZONE
TZID:America/Halifax
X-LIC-LOCATION:America/Halifax
BEGIN:DAYLIGHT
DTSTART:20240310T030000
TZOFFSETFROM:-0400
TZOFFSETTO:-0300
TZNAME:ADT
END:DAYLIGHT
END:VTIMEZONE
END:VCALENDAR