BEGIN:VCALENDAR
VERSION:2.0
PRODID:-//wp-events-plugin.com//7.2.3.1//EN
TZID:America/Halifax
X-WR-TIMEZONE:America/Halifax
BEGIN:VEVENT
UID:253@devourfest.com
DTSTART;TZID=America/Halifax:20161103T200000
DTEND;TZID=America/Halifax:20161104T010000
DTSTAMP:20161027T173346Z
URL:https://devourfest.com/program/nova-beer-garden/
SUMMARY:Nova & Beer Garden
DESCRIPTION:Our first official beer garden ever at Devour! with not only ou
 r first official beer–Kino Bier from Spindrift Brewing –but one with w
 ine from Benjamin Bridge too! Drop by after the Devour! Street Food Party 
 or in between films… let those suds warm you up\, fuel your conversation
 s and inspire your evening.\n\nAdmittance with Badge or Festival Ticket.
ATTACH;FMTTYPE=image/jpeg:https://devourfest.com/wp-content/uploads/2016/0
 9/winetourQ2133-1-scaled.jpg
LOCATION:Wilsons Home Heating Pavilion\, Troy Restaurant\, 12 Elm Ave.\, Wo
 lfville\, NS\, B4P 2S2\, Kings County\, Canada
GEO:45.092072;-64.363983
X-APPLE-STRUCTURED-LOCATION;VALUE=URI;X-ADDRESS=12 Elm Ave.\, Wolfville\, N
 S\, B4P 2S2\, Kings County\, Canada;X-APPLE-RADIUS=100;X-TITLE=Wilsons Hom
 e Heating Pavilion\, Troy Restaurant:geo:45.092072,-64.363983
END:VEVENT
BEGIN:VTIMEZONE
TZID:America/Halifax
X-LIC-LOCATION:America/Halifax
BEGIN:DAYLIGHT
DTSTART:20160313T030000
TZOFFSETFROM:-0400
TZOFFSETTO:-0300
TZNAME:ADT
END:DAYLIGHT
END:VTIMEZONE
END:VCALENDAR