BEGIN:VCALENDAR
VERSION:2.0
PRODID:-//wp-events-plugin.com//7.2.3.1//EN
TZID:America/Halifax
X-WR-TIMEZONE:America/Halifax
BEGIN:VEVENT
UID:256@devourfest.com
DTSTART;TZID=America/Halifax:20161104T110000
DTEND;TZID=America/Halifax:20161104T150000
DTSTAMP:20161104T145734Z
URL:https://devourfest.com/program/nova-scotia-food-truck-pop-up-rally-2/
SUMMARY:Nova Scotia Food Truck Pop-Up Rally
DESCRIPTION:This has been CANCELLED due to weather- our apologies!\n\nBecau
 se why have food trucks make a trip to the valley and only stay one day...
  this is your second chance to hit up some of the province's best purveyor
 s of food on wheels!\n\nList of participating trucks coming very soon!\n\n
 Free admission.
ATTACH;FMTTYPE=image/jpeg:https://devourfest.com/wp-content/uploads/2016/0
 9/JMV-2140.jpg
LOCATION:Robie Tufts Park\, 122 Front Street\, Wolfville\, Nova Scotia\, B4
 P 1A6\, Canada
GEO:45.0922045;-64.36200459999998
X-APPLE-STRUCTURED-LOCATION;VALUE=URI;X-ADDRESS=122 Front Street\, Wolfvill
 e\, Nova Scotia\, B4P 1A6\, Canada;X-APPLE-RADIUS=100;X-TITLE=Robie Tufts 
 Park:geo:45.0922045,-64.36200459999998
END:VEVENT
BEGIN:VTIMEZONE
TZID:America/Halifax
X-LIC-LOCATION:America/Halifax
BEGIN:DAYLIGHT
DTSTART:20160313T030000
TZOFFSETFROM:-0400
TZOFFSETTO:-0300
TZNAME:ADT
END:DAYLIGHT
END:VTIMEZONE
END:VCALENDAR