BEGIN:VCALENDAR
VERSION:2.0
PRODID:-//wp-events-plugin.com//7.2.3.1//EN
TZID:America/Halifax
X-WR-TIMEZONE:America/Halifax
BEGIN:VEVENT
UID:196@devourfest.com
DTSTART;TZID=America/Halifax:20151106T110000
DTEND;TZID=America/Halifax:20151106T150000
DTSTAMP:20151106T193510Z
URL:https://devourfest.com/program/nova-scotia-food-truck-pop-up-rally/
SUMMARY:Nova Scotia Food Truck Pop-Up Rally
DESCRIPTION:The hottest rage in North America hits the streets of Wolfville
 . The province’s largest food truck rally offers fast\, accessible\, del
 icious food for all! Featuring live music and fun for the whole family.\n\
 nNomad Gourmet\, Edible Side Show and T-Dogs\n\nFree admission!
ATTACH;FMTTYPE=image/jpeg:https://devourfest.com/wp-content/uploads/2015/0
 9/JMV-6248.jpeg
LOCATION:Robie Tufts Park\, 122 Front Street\, Wolfville\, Nova Scotia\, B4
 P 1A6\, Canada
GEO:45.0922045;-64.36200459999998
X-APPLE-STRUCTURED-LOCATION;VALUE=URI;X-ADDRESS=122 Front Street\, Wolfvill
 e\, Nova Scotia\, B4P 1A6\, Canada;X-APPLE-RADIUS=100;X-TITLE=Robie Tufts 
 Park:geo:45.0922045,-64.36200459999998
END:VEVENT
BEGIN:VTIMEZONE
TZID:America/Halifax
X-LIC-LOCATION:America/Halifax
BEGIN:STANDARD
DTSTART:20151101T010000
TZOFFSETFROM:-0300
TZOFFSETTO:-0400
TZNAME:AST
END:STANDARD
END:VTIMEZONE
END:VCALENDAR