BEGIN:VCALENDAR
VERSION:2.0
PRODID:-//wp-events-plugin.com//7.2.3.1//EN
TZID:America/Halifax
X-WR-TIMEZONE:America/Halifax
BEGIN:VEVENT
UID:127@devourfest.com
DTSTART;TZID=America/Halifax:20141114T110000
DTEND;TZID=America/Halifax:20141114T150000
DTSTAMP:20141022T150529Z
URL:https://devourfest.com/program/nova-scotia-food-trucks-pop-up/
SUMMARY:Nova Scotia Food Trucks Pop-Up
DESCRIPTION:The hottest rage in North America hits the streets of Wolfville
 . From gourmet burgers to fish tacos and grilled cheese sandwiches with a 
 Nova Scotia twist\, the province’s largest food truck rally offers fast\
 , accessible\, delicious food for all! Featuring live music and fun for th
 e whole family.\n\nA list of all participating food trucks coming soon.\n\
 nFree admission!
LOCATION:Robie Tufts Park\, 122 Front Street\, Wolfville\, Nova Scotia\, B4
 P 1A6\, Canada
GEO:45.0922045;-64.36200459999998
X-APPLE-STRUCTURED-LOCATION;VALUE=URI;X-ADDRESS=122 Front Street\, Wolfvill
 e\, Nova Scotia\, B4P 1A6\, Canada;X-APPLE-RADIUS=100;X-TITLE=Robie Tufts 
 Park:geo:45.0922045,-64.36200459999998
END:VEVENT
BEGIN:VTIMEZONE
TZID:America/Halifax
X-LIC-LOCATION:America/Halifax
BEGIN:STANDARD
DTSTART:20141102T010000
TZOFFSETFROM:-0300
TZOFFSETTO:-0400
TZNAME:AST
END:STANDARD
END:VTIMEZONE
END:VCALENDAR