BEGIN:VCALENDAR
VERSION:2.0
PRODID:-//wp-events-plugin.com//7.2.3.1//EN
TZID:America/Halifax
X-WR-TIMEZONE:America/Halifax
BEGIN:VEVENT
UID:284@devourfest.com
DTSTART;TZID=America/Halifax:20161105T113000
DTEND;TZID=America/Halifax:20161105T130000
DTSTAMP:20161027T173750Z
URL:https://devourfest.com/program/ocean-wise-panel/
SUMMARY:A Fish Called Sustainable: Human impacts on the ocean and sustainab
 le seafood initiatives in Canada
DESCRIPTION:A Fish Called Sustainable: Human impacts on the ocean and susta
 inable seafood initiatives in Canada \n\nThis panel will bring together ex
 perts from academia\, industry\, and conservation to highlight the current
  ecological impacts of fishing—both local and globally\, and discuss whe
 re gaps in seafood supply chain management currently exist. Additional emp
 hasis will be placed on the role and accessibility of sustainable seafood 
 recommendation programs\, and the involvement of chefs and businesses in t
 he promotion of responsibly sourced seafood to consumers. Audience partici
 pation will be highly encouraged and attendees are welcome to ask our pane
 lists any questions they have related to fisheries and/or aquaculture prac
 tices in Canada and abroad.\n\nConfirmed Participants:\n\nDave Adler\, Own
 er\, Hooked Halifax\n\nDr. Megan Bailey\, Assistant Professor\, Dalhousie 
 University\n\nNed Bell\, Executive Chef\, Vancouver Aquarium\n\nHana Nelso
 n\, Owner\, Afishionado Fishmongers \n\nModerator: Laurenne Schiller\, Oce
 an Wise Research Analyst\n\nNO TICKETS ARE NECESSARY FOR THIS EVENT\n\nPle
 ase RSVP to Isabella.Sulpizio@vanaqua.org  to reserve a spot
LOCATION:Al Whittle Theatre - Studio Z\, 450 Main St\, Wolfville\, NS\, B4P
  1E2\, Canada
GEO:45.091618;-64.362640
X-APPLE-STRUCTURED-LOCATION;VALUE=URI;X-ADDRESS=450 Main St\, Wolfville\, N
 S\, B4P 1E2\, Canada;X-APPLE-RADIUS=100;X-TITLE=Al Whittle Theatre - Studi
 o Z:geo:45.091618,-64.362640
END:VEVENT
BEGIN:VTIMEZONE
TZID:America/Halifax
X-LIC-LOCATION:America/Halifax
BEGIN:DAYLIGHT
DTSTART:20160313T030000
TZOFFSETFROM:-0400
TZOFFSETTO:-0300
TZNAME:ADT
END:DAYLIGHT
END:VTIMEZONE
END:VCALENDAR